BEGIN:VCALENDAR
VERSION:2.0
PRODID:-//Graduate Tacoma - ECPv6.15.20//NONSGML v1.0//EN
CALSCALE:GREGORIAN
METHOD:PUBLISH
X-WR-CALNAME:Graduate Tacoma
X-ORIGINAL-URL:https://graduatetacoma.org
X-WR-CALDESC:Events for Graduate Tacoma
REFRESH-INTERVAL;VALUE=DURATION:PT1H
X-Robots-Tag:noindex
X-PUBLISHED-TTL:PT1H
BEGIN:VTIMEZONE
TZID:America/Los_Angeles
BEGIN:DAYLIGHT
TZOFFSETFROM:-0800
TZOFFSETTO:-0700
TZNAME:PDT
DTSTART:20220313T100000
END:DAYLIGHT
BEGIN:STANDARD
TZOFFSETFROM:-0700
TZOFFSETTO:-0800
TZNAME:PST
DTSTART:20221106T090000
END:STANDARD
BEGIN:DAYLIGHT
TZOFFSETFROM:-0800
TZOFFSETTO:-0700
TZNAME:PDT
DTSTART:20230312T100000
END:DAYLIGHT
BEGIN:STANDARD
TZOFFSETFROM:-0700
TZOFFSETTO:-0800
TZNAME:PST
DTSTART:20231105T090000
END:STANDARD
BEGIN:DAYLIGHT
TZOFFSETFROM:-0800
TZOFFSETTO:-0700
TZNAME:PDT
DTSTART:20240310T100000
END:DAYLIGHT
BEGIN:STANDARD
TZOFFSETFROM:-0700
TZOFFSETTO:-0800
TZNAME:PST
DTSTART:20241103T090000
END:STANDARD
END:VTIMEZONE
BEGIN:VEVENT
DTSTART;TZID=America/Los_Angeles:20231026T180000
DTEND;TZID=America/Los_Angeles:20231026T200000
DTSTAMP:20260421T012058
CREATED:20231010T223326Z
LAST-MODIFIED:20231010T223326Z
UID:22603-1698343200-1698350400@graduatetacoma.org
SUMMARY:Champions for Children
DESCRIPTION:Each year Pierce County Early Childhood Network (PCECN) invites the community to nominate people\, organizations\, or businesses in Pierce County for the Champions for Children award. This award is intended to recognize those who have an extraordinary ability to make children and families feel encouraged\, uplifted\, and supported.
URL:https://graduatetacoma.org/event/champions-for-children/
ATTACH;FMTTYPE=image/jpeg:https://graduatetacoma.org/wp-content/uploads/2023/10/CFC-oct-26.jpeg
END:VEVENT
END:VCALENDAR