BEGIN:VCALENDAR
VERSION:2.0
PRODID:-//Graduate Tacoma - ECPv6.15.20//NONSGML v1.0//EN
CALSCALE:GREGORIAN
METHOD:PUBLISH
X-WR-CALNAME:Graduate Tacoma
X-ORIGINAL-URL:https://graduatetacoma.org
X-WR-CALDESC:Events for Graduate Tacoma
REFRESH-INTERVAL;VALUE=DURATION:PT1H
X-Robots-Tag:noindex
X-PUBLISHED-TTL:PT1H
BEGIN:VTIMEZONE
TZID:America/Los_Angeles
BEGIN:DAYLIGHT
TZOFFSETFROM:-0800
TZOFFSETTO:-0700
TZNAME:PDT
DTSTART:20190310T100000
END:DAYLIGHT
BEGIN:STANDARD
TZOFFSETFROM:-0700
TZOFFSETTO:-0800
TZNAME:PST
DTSTART:20191103T090000
END:STANDARD
BEGIN:DAYLIGHT
TZOFFSETFROM:-0800
TZOFFSETTO:-0700
TZNAME:PDT
DTSTART:20200308T100000
END:DAYLIGHT
BEGIN:STANDARD
TZOFFSETFROM:-0700
TZOFFSETTO:-0800
TZNAME:PST
DTSTART:20201101T090000
END:STANDARD
BEGIN:DAYLIGHT
TZOFFSETFROM:-0800
TZOFFSETTO:-0700
TZNAME:PDT
DTSTART:20210314T100000
END:DAYLIGHT
BEGIN:STANDARD
TZOFFSETFROM:-0700
TZOFFSETTO:-0800
TZNAME:PST
DTSTART:20211107T090000
END:STANDARD
END:VTIMEZONE
BEGIN:VEVENT
DTSTART;TZID=America/Los_Angeles:20201113T093000
DTEND;TZID=America/Los_Angeles:20201113T110000
DTSTAMP:20260421T060656
CREATED:20201020T231124Z
LAST-MODIFIED:20201020T231248Z
UID:9127-1605259800-1605265200@graduatetacoma.org
SUMMARY:Connecting People to Action
DESCRIPTION:The Graduate Tacoma Advocacy Network invites you to an interactive webinar where we’ll take you from connection to activation by building individual plans that span communications tactics and timelines\, grassroots and grasstops efforts\, and recommendations for how to stay coordinated through the legislative session.
URL:https://graduatetacoma.org/event/connecting-people-to-action/
LOCATION:Virtual
CATEGORIES:Advocacy
ATTACH;FMTTYPE=image/jpeg:https://graduatetacoma.org/wp-content/uploads/2020/07/mcknight_olympia_capitol_librarians_0568.jpg
END:VEVENT
END:VCALENDAR