BEGIN:VCALENDAR
VERSION:2.0
PRODID:-//Graduate Tacoma - ECPv6.15.20//NONSGML v1.0//EN
CALSCALE:GREGORIAN
METHOD:PUBLISH
X-WR-CALNAME:Graduate Tacoma
X-ORIGINAL-URL:https://graduatetacoma.org
X-WR-CALDESC:Events for Graduate Tacoma
REFRESH-INTERVAL;VALUE=DURATION:PT1H
X-Robots-Tag:noindex
X-PUBLISHED-TTL:PT1H
BEGIN:VTIMEZONE
TZID:America/Los_Angeles
BEGIN:DAYLIGHT
TZOFFSETFROM:-0800
TZOFFSETTO:-0700
TZNAME:PDT
DTSTART:20200308T100000
END:DAYLIGHT
BEGIN:STANDARD
TZOFFSETFROM:-0700
TZOFFSETTO:-0800
TZNAME:PST
DTSTART:20201101T090000
END:STANDARD
BEGIN:DAYLIGHT
TZOFFSETFROM:-0800
TZOFFSETTO:-0700
TZNAME:PDT
DTSTART:20210314T100000
END:DAYLIGHT
BEGIN:STANDARD
TZOFFSETFROM:-0700
TZOFFSETTO:-0800
TZNAME:PST
DTSTART:20211107T090000
END:STANDARD
BEGIN:DAYLIGHT
TZOFFSETFROM:-0800
TZOFFSETTO:-0700
TZNAME:PDT
DTSTART:20220313T100000
END:DAYLIGHT
BEGIN:STANDARD
TZOFFSETFROM:-0700
TZOFFSETTO:-0800
TZNAME:PST
DTSTART:20221106T090000
END:STANDARD
END:VTIMEZONE
BEGIN:VEVENT
DTSTART;TZID=America/Los_Angeles:20211016T110000
DTEND;TZID=America/Los_Angeles:20211016T150000
DTSTAMP:20260421T032829
CREATED:20210930T232746Z
LAST-MODIFIED:20210930T232746Z
UID:13806-1634382000-1634396400@graduatetacoma.org
SUMMARY:Craft Saturday: Create a Log Cabin
DESCRIPTION:Pick up a free craft kit from the Job Carr Cabin Museum porch! First-come\, first-served 11 AM to 3 PM. Children can use the materials provided in this take-home craft kit to create a miniature log cabin box. Take-home kits include all the materials and instructions needed for a fun at-home activity. Instructional videos will also be posted online.Please use social distancing etiquette when you pick up your craft kit. Masks required.
URL:https://graduatetacoma.org/event/craft-saturday-create-a-log-cabin/
LOCATION:Job Carr Cabin Museum\, 2350 N. 30th St.\, Tacoma\, WA\, 98403\, United States
CATEGORIES:Early Learning and Reading Network
ORGANIZER;CN="Job Carr Cabin Museum":MAILTO:hstewart@jobcarrmuseum.org
END:VEVENT
END:VCALENDAR