BEGIN:VCALENDAR
VERSION:2.0
PRODID:-//Graduate Tacoma - ECPv6.15.20//NONSGML v1.0//EN
CALSCALE:GREGORIAN
METHOD:PUBLISH
X-WR-CALNAME:Graduate Tacoma
X-ORIGINAL-URL:https://graduatetacoma.org
X-WR-CALDESC:Events for Graduate Tacoma
REFRESH-INTERVAL;VALUE=DURATION:PT1H
X-Robots-Tag:noindex
X-PUBLISHED-TTL:PT1H
BEGIN:VTIMEZONE
TZID:America/Los_Angeles
BEGIN:DAYLIGHT
TZOFFSETFROM:-0800
TZOFFSETTO:-0700
TZNAME:PDT
DTSTART:20210314T100000
END:DAYLIGHT
BEGIN:STANDARD
TZOFFSETFROM:-0700
TZOFFSETTO:-0800
TZNAME:PST
DTSTART:20211107T090000
END:STANDARD
BEGIN:DAYLIGHT
TZOFFSETFROM:-0800
TZOFFSETTO:-0700
TZNAME:PDT
DTSTART:20220313T100000
END:DAYLIGHT
BEGIN:STANDARD
TZOFFSETFROM:-0700
TZOFFSETTO:-0800
TZNAME:PST
DTSTART:20221106T090000
END:STANDARD
BEGIN:DAYLIGHT
TZOFFSETFROM:-0800
TZOFFSETTO:-0700
TZNAME:PDT
DTSTART:20230312T100000
END:DAYLIGHT
BEGIN:STANDARD
TZOFFSETFROM:-0700
TZOFFSETTO:-0800
TZNAME:PST
DTSTART:20231105T090000
END:STANDARD
END:VTIMEZONE
BEGIN:VEVENT
DTSTART;TZID=America/Los_Angeles:20220316T180000
DTEND;TZID=America/Los_Angeles:20220316T193000
DTSTAMP:20260421T010609
CREATED:20211126T093719Z
LAST-MODIFIED:20211126T093719Z
UID:14889-1647453600-1647459000@graduatetacoma.org
SUMMARY:Financial Aid Completion Night hosted by TCC
DESCRIPTION:Tacoma Community College’s Outreach & Recruitment Services team will be hosting Financial Aid Completion Nights for high school seniors. This will be an opportunity for students to get additional support while they complete the FAFSA or WASFA. Both virtual and in-person sessions will be offered. After registering for a session\, students will receive a confirmation email with the Zoom Link or Building & Room Location of the session. \nRegistration Link: https://forms.office.com/r/U6Gmpk41mt \nIf you have any additional questions\, please reach out to OutreachServices@tacomacc.edu
URL:https://graduatetacoma.org/event/financial-aid-completion-night-hosted-by-tcc/
CATEGORIES:Tacoma College Support Network
ATTACH;FMTTYPE=image/png:https://graduatetacoma.org/wp-content/uploads/2021/11/FA-Completion-Nights-4.png
END:VEVENT
END:VCALENDAR