BEGIN:VCALENDAR
VERSION:2.0
PRODID:-//Graduate Tacoma - ECPv6.15.20//NONSGML v1.0//EN
CALSCALE:GREGORIAN
METHOD:PUBLISH
X-WR-CALNAME:Graduate Tacoma
X-ORIGINAL-URL:https://graduatetacoma.org
X-WR-CALDESC:Events for Graduate Tacoma
REFRESH-INTERVAL;VALUE=DURATION:PT1H
X-Robots-Tag:noindex
X-PUBLISHED-TTL:PT1H
BEGIN:VTIMEZONE
TZID:America/Los_Angeles
BEGIN:DAYLIGHT
TZOFFSETFROM:-0800
TZOFFSETTO:-0700
TZNAME:PDT
DTSTART:20210314T100000
END:DAYLIGHT
BEGIN:STANDARD
TZOFFSETFROM:-0700
TZOFFSETTO:-0800
TZNAME:PST
DTSTART:20211107T090000
END:STANDARD
BEGIN:DAYLIGHT
TZOFFSETFROM:-0800
TZOFFSETTO:-0700
TZNAME:PDT
DTSTART:20220313T100000
END:DAYLIGHT
BEGIN:STANDARD
TZOFFSETFROM:-0700
TZOFFSETTO:-0800
TZNAME:PST
DTSTART:20221106T090000
END:STANDARD
BEGIN:DAYLIGHT
TZOFFSETFROM:-0800
TZOFFSETTO:-0700
TZNAME:PDT
DTSTART:20230312T100000
END:DAYLIGHT
BEGIN:STANDARD
TZOFFSETFROM:-0700
TZOFFSETTO:-0800
TZNAME:PST
DTSTART:20231105T090000
END:STANDARD
END:VTIMEZONE
BEGIN:VEVENT
DTSTART;TZID=America/Los_Angeles:20221206T140000
DTEND;TZID=America/Los_Angeles:20221206T153000
DTSTAMP:20260422T042344
CREATED:20221117T211531Z
LAST-MODIFIED:20221117T211531Z
UID:17181-1670335200-1670340600@graduatetacoma.org
SUMMARY:Financial Aid Drop In Tuesdays
DESCRIPTION:Join College Success Foundation staff every Tuesday at Lincoln High School Library from 2:15-3:30 to get help with completing financial aid\, scholarship\, and college applications.  Contact Rob Jones\, rejones@collegesuccessfoundation.org.  No registration is required.
URL:https://graduatetacoma.org/event/financial-aid-drop-in-tuesdays/
LOCATION:Lincoln High School\, 701 S. 37th St\, Tacoma\, WA\, 98418\, United States
CATEGORIES:Financial Aid
ATTACH;FMTTYPE=image/jpeg:https://graduatetacoma.org/wp-content/uploads/2022/11/AdobeStock_213646960-scaled.jpeg
ORGANIZER;CN="College Success Foundation":MAILTO:info@collegesuccessfoundation.org
END:VEVENT
END:VCALENDAR