BEGIN:VCALENDAR
VERSION:2.0
PRODID:-//Graduate Tacoma - ECPv6.15.20//NONSGML v1.0//EN
CALSCALE:GREGORIAN
METHOD:PUBLISH
X-WR-CALNAME:Graduate Tacoma
X-ORIGINAL-URL:https://graduatetacoma.org
X-WR-CALDESC:Events for Graduate Tacoma
REFRESH-INTERVAL;VALUE=DURATION:PT1H
X-Robots-Tag:noindex
X-PUBLISHED-TTL:PT1H
BEGIN:VTIMEZONE
TZID:America/Los_Angeles
BEGIN:DAYLIGHT
TZOFFSETFROM:-0800
TZOFFSETTO:-0700
TZNAME:PDT
DTSTART:20190310T100000
END:DAYLIGHT
BEGIN:STANDARD
TZOFFSETFROM:-0700
TZOFFSETTO:-0800
TZNAME:PST
DTSTART:20191103T090000
END:STANDARD
BEGIN:DAYLIGHT
TZOFFSETFROM:-0800
TZOFFSETTO:-0700
TZNAME:PDT
DTSTART:20200308T100000
END:DAYLIGHT
BEGIN:STANDARD
TZOFFSETFROM:-0700
TZOFFSETTO:-0800
TZNAME:PST
DTSTART:20201101T090000
END:STANDARD
BEGIN:DAYLIGHT
TZOFFSETFROM:-0800
TZOFFSETTO:-0700
TZNAME:PDT
DTSTART:20210314T100000
END:DAYLIGHT
BEGIN:STANDARD
TZOFFSETFROM:-0700
TZOFFSETTO:-0800
TZNAME:PST
DTSTART:20211107T090000
END:STANDARD
END:VTIMEZONE
BEGIN:VEVENT
DTSTART;TZID=America/Los_Angeles:20201114T100000
DTEND;TZID=America/Los_Angeles:20201114T130000
DTSTAMP:20260421T045153
CREATED:20201103T051420Z
LAST-MODIFIED:20201103T051420Z
UID:9162-1605348000-1605358800@graduatetacoma.org
SUMMARY:Julia Robinson Mathematics Festival
DESCRIPTION:The mission of Julia Robinson Math Fest is to inspire students to explore the richness and beauty of mathematics through games\, and activities that encourage collaborative\, creative and interactive problem-solving.\n \nThe festival will bring together students from local middle schools\, high schools\, and colleges to engage in various thought-provoking activities in a social and cooperative atmosphere. Participants can choose from several tables of math-themed games\, puzzles\, and activities where a facilitator (Faculty and students from UW Tacoma\, Tacoma CC\, Pacific Lutheran University\, Tacoma Public Schools\, Engineers\, etc ) will be happy to work with them for as long as they wish while providing support and encouragement. These social interactions have shown to be a critical component in motivating students.
URL:https://graduatetacoma.org/event/julia-robinson-mathematics-festival/
LOCATION:Virtual
CATEGORIES:STEAM Learning,Tacoma College Support Network
ATTACH;FMTTYPE=image/jpeg:https://graduatetacoma.org/wp-content/uploads/2020/11/unnamed-12.jpg
END:VEVENT
END:VCALENDAR