BEGIN:VCALENDAR
VERSION:2.0
PRODID:-//Graduate Tacoma - ECPv6.15.20//NONSGML v1.0//EN
CALSCALE:GREGORIAN
METHOD:PUBLISH
X-WR-CALNAME:Graduate Tacoma
X-ORIGINAL-URL:https://graduatetacoma.org
X-WR-CALDESC:Events for Graduate Tacoma
REFRESH-INTERVAL;VALUE=DURATION:PT1H
X-Robots-Tag:noindex
X-PUBLISHED-TTL:PT1H
BEGIN:VTIMEZONE
TZID:America/Los_Angeles
BEGIN:DAYLIGHT
TZOFFSETFROM:-0800
TZOFFSETTO:-0700
TZNAME:PDT
DTSTART:20230312T100000
END:DAYLIGHT
BEGIN:STANDARD
TZOFFSETFROM:-0700
TZOFFSETTO:-0800
TZNAME:PST
DTSTART:20231105T090000
END:STANDARD
BEGIN:DAYLIGHT
TZOFFSETFROM:-0800
TZOFFSETTO:-0700
TZNAME:PDT
DTSTART:20240310T100000
END:DAYLIGHT
BEGIN:STANDARD
TZOFFSETFROM:-0700
TZOFFSETTO:-0800
TZNAME:PST
DTSTART:20241103T090000
END:STANDARD
BEGIN:DAYLIGHT
TZOFFSETFROM:-0800
TZOFFSETTO:-0700
TZNAME:PDT
DTSTART:20250309T100000
END:DAYLIGHT
BEGIN:STANDARD
TZOFFSETFROM:-0700
TZOFFSETTO:-0800
TZNAME:PST
DTSTART:20251102T090000
END:STANDARD
END:VTIMEZONE
BEGIN:VEVENT
DTSTART;TZID=America/Los_Angeles:20240313T150000
DTEND;TZID=America/Los_Angeles:20240313T190000
DTSTAMP:20260421T020915
CREATED:20240222T181419Z
LAST-MODIFIED:20240222T181419Z
UID:26502-1710342000-1710356400@graduatetacoma.org
SUMMARY:Lincoln Financial Aid Day
DESCRIPTION:On March 13th starting at 3PM the LINC Staff in collaboration with our College Access Teams will be conducting a Financial Aid Completion Day. Senior Students and Parents please come out and let us help answer any questions or concerns you may have about filling for Financial Aid. \nRegister here: 2024 FAFSA/WASFA Completion Day II (office.com) \nLocation: Lincoln HS\, Room 120
URL:https://graduatetacoma.org/event/lincoln-financial-aid-day/
LOCATION:Lincoln High School\, 701 S. 37th St\, Tacoma\, WA\, 98418\, United States
CATEGORIES:Financial Aid
ATTACH;FMTTYPE=image/png:https://graduatetacoma.org/wp-content/uploads/2024/01/2024-Free-Aid-February-Banner.png
END:VEVENT
END:VCALENDAR