BEGIN:VCALENDAR
VERSION:2.0
PRODID:-//Graduate Tacoma - ECPv6.15.20//NONSGML v1.0//EN
CALSCALE:GREGORIAN
METHOD:PUBLISH
X-WR-CALNAME:Graduate Tacoma
X-ORIGINAL-URL:https://graduatetacoma.org
X-WR-CALDESC:Events for Graduate Tacoma
REFRESH-INTERVAL;VALUE=DURATION:PT1H
X-Robots-Tag:noindex
X-PUBLISHED-TTL:PT1H
BEGIN:VTIMEZONE
TZID:America/Los_Angeles
BEGIN:DAYLIGHT
TZOFFSETFROM:-0800
TZOFFSETTO:-0700
TZNAME:PDT
DTSTART:20220313T100000
END:DAYLIGHT
BEGIN:STANDARD
TZOFFSETFROM:-0700
TZOFFSETTO:-0800
TZNAME:PST
DTSTART:20221106T090000
END:STANDARD
BEGIN:DAYLIGHT
TZOFFSETFROM:-0800
TZOFFSETTO:-0700
TZNAME:PDT
DTSTART:20230312T100000
END:DAYLIGHT
BEGIN:STANDARD
TZOFFSETFROM:-0700
TZOFFSETTO:-0800
TZNAME:PST
DTSTART:20231105T090000
END:STANDARD
BEGIN:DAYLIGHT
TZOFFSETFROM:-0800
TZOFFSETTO:-0700
TZNAME:PDT
DTSTART:20240310T100000
END:DAYLIGHT
BEGIN:STANDARD
TZOFFSETFROM:-0700
TZOFFSETTO:-0800
TZNAME:PST
DTSTART:20241103T090000
END:STANDARD
END:VTIMEZONE
BEGIN:VEVENT
DTSTART;TZID=America/Los_Angeles:20230919T120000
DTEND;TZID=America/Los_Angeles:20230919T140000
DTSTAMP:20260421T075634
CREATED:20230907T175619Z
LAST-MODIFIED:20230907T175619Z
UID:21128-1695124800-1695132000@graduatetacoma.org
SUMMARY:National School Redesign Showcase Orientation Session Q&A
DESCRIPTION:The national school design showcase is a year-long collaboration bringing together students\, teachers\, schools\, and policy influencers to design school experiences that turn middle and high schools into places everyone wants to be and puts all students on a pathway to adult success. \nSelected school teams consisting of students\, teachers\, school and district leaders\, and/or community members will have the opportunity to share their ideas of how their schools could achieve this with a wider audience including Washington\, DC-based educational policy influencers.
URL:https://graduatetacoma.org/event/national-school-redesign-showcase-orientation-session-qa/
ATTACH;FMTTYPE=image/png:https://graduatetacoma.org/wp-content/uploads/2023/09/unnamed.png
END:VEVENT
END:VCALENDAR