BEGIN:VCALENDAR
VERSION:2.0
PRODID:-//Graduate Tacoma - ECPv6.15.20//NONSGML v1.0//EN
CALSCALE:GREGORIAN
METHOD:PUBLISH
X-WR-CALNAME:Graduate Tacoma
X-ORIGINAL-URL:https://graduatetacoma.org
X-WR-CALDESC:Events for Graduate Tacoma
REFRESH-INTERVAL;VALUE=DURATION:PT1H
X-Robots-Tag:noindex
X-PUBLISHED-TTL:PT1H
BEGIN:VTIMEZONE
TZID:America/Los_Angeles
BEGIN:DAYLIGHT
TZOFFSETFROM:-0800
TZOFFSETTO:-0700
TZNAME:PDT
DTSTART:20230312T100000
END:DAYLIGHT
BEGIN:STANDARD
TZOFFSETFROM:-0700
TZOFFSETTO:-0800
TZNAME:PST
DTSTART:20231105T090000
END:STANDARD
BEGIN:DAYLIGHT
TZOFFSETFROM:-0800
TZOFFSETTO:-0700
TZNAME:PDT
DTSTART:20240310T100000
END:DAYLIGHT
BEGIN:STANDARD
TZOFFSETFROM:-0700
TZOFFSETTO:-0800
TZNAME:PST
DTSTART:20241103T090000
END:STANDARD
BEGIN:DAYLIGHT
TZOFFSETFROM:-0800
TZOFFSETTO:-0700
TZNAME:PDT
DTSTART:20250309T100000
END:DAYLIGHT
BEGIN:STANDARD
TZOFFSETFROM:-0700
TZOFFSETTO:-0800
TZNAME:PST
DTSTART:20251102T090000
END:STANDARD
END:VTIMEZONE
BEGIN:VEVENT
DTSTART;TZID=America/Los_Angeles:20240424T120000
DTEND;TZID=America/Los_Angeles:20240424T133000
DTSTAMP:20260421T020741
CREATED:20240220T193547Z
LAST-MODIFIED:20240220T193547Z
UID:26384-1713960000-1713965400@graduatetacoma.org
SUMMARY:Rainier Scholars Luncheon
DESCRIPTION:Join us as we celebrate the Rainier Scholars values and what it means to be EPIC! \nSee EXCELLENCE in action\nHear stories of PERSEVERANCE\nReflect on what everyday INTEGRITY looks like\nExperience how COURAGE creates change! \nTogether let’s cheer on our incredible scholars\, families\, and alumni\, while supporting their journey to and through college! Invitations with exciting speaker reveals and program highlights coming soon. \nYou won’t want to miss this year’s Rainier Scholars Luncheon—it’s going to be EPIC!
URL:https://graduatetacoma.org/event/rainier-scholars-luncheon/
LOCATION:Sheraton Grand Seattle\, 1400 6th Ave\, Seattle\, WA\, 98101\, United States
CATEGORIES:Consortium,General Community
ATTACH;FMTTYPE=image/png:https://graduatetacoma.org/wp-content/uploads/2024/02/Rainier-Scholars-Luncheon.png
END:VEVENT
END:VCALENDAR