BEGIN:VCALENDAR
VERSION:2.0
PRODID:-//Graduate Tacoma - ECPv6.15.20//NONSGML v1.0//EN
CALSCALE:GREGORIAN
METHOD:PUBLISH
X-WR-CALNAME:Graduate Tacoma
X-ORIGINAL-URL:https://graduatetacoma.org
X-WR-CALDESC:Events for Graduate Tacoma
REFRESH-INTERVAL;VALUE=DURATION:PT1H
X-Robots-Tag:noindex
X-PUBLISHED-TTL:PT1H
BEGIN:VTIMEZONE
TZID:America/Los_Angeles
BEGIN:DAYLIGHT
TZOFFSETFROM:-0800
TZOFFSETTO:-0700
TZNAME:PDT
DTSTART:20210314T100000
END:DAYLIGHT
BEGIN:STANDARD
TZOFFSETFROM:-0700
TZOFFSETTO:-0800
TZNAME:PST
DTSTART:20211107T090000
END:STANDARD
BEGIN:DAYLIGHT
TZOFFSETFROM:-0800
TZOFFSETTO:-0700
TZNAME:PDT
DTSTART:20220313T100000
END:DAYLIGHT
BEGIN:STANDARD
TZOFFSETFROM:-0700
TZOFFSETTO:-0800
TZNAME:PST
DTSTART:20221106T090000
END:STANDARD
BEGIN:DAYLIGHT
TZOFFSETFROM:-0800
TZOFFSETTO:-0700
TZNAME:PDT
DTSTART:20230312T100000
END:DAYLIGHT
BEGIN:STANDARD
TZOFFSETFROM:-0700
TZOFFSETTO:-0800
TZNAME:PST
DTSTART:20231105T090000
END:STANDARD
END:VTIMEZONE
BEGIN:VEVENT
DTSTART;TZID=America/Los_Angeles:20221008T100000
DTEND;TZID=America/Los_Angeles:20221008T150000
DTSTAMP:20260422T065807
CREATED:20220929T212606Z
LAST-MODIFIED:20221004T063911Z
UID:16492-1665223200-1665241200@graduatetacoma.org
SUMMARY:Senior Saturday
DESCRIPTION:This event is for current seniors (Class of 2023) and their parent(s)/guardian(s).  Senior Saturday is a collaboration between College Success Foundation\, MDC\, Mt Tahoma and Proyecto MoLE to support the Class of 2023 with their post secondary goals and successful completion of their senior year. Registration required. This event is capped at 250 participants. \nSenior Saturday will include the following: \n\n\n\n\n\nCollege/Resource Fair\nAssistance Completing the 2023-24 FAFSA/WASFA\nCollege Application Support\nPersonal Statement/Scholarship Essay Support\nPost Secondary Planning Guidance and Support\n\n\n\n\n\n Lunch will be provided and students are encouraged to bring a laptop and charger. \nFeel free to contact Melody Rodriguez at (253) 381-0446 or mrodriguez@collegesuccessfoundation.org if you have questions.
URL:https://graduatetacoma.org/event/senior-saturday/
LOCATION:Mount Tahoma High School\, 4634 S. 74th St.\, Tacoma\, WA\, 98409\, United States
CATEGORIES:Financial Aid
ATTACH;FMTTYPE=image/jpeg:https://graduatetacoma.org/wp-content/uploads/2022/09/AdobeStock_221170287-scaled.jpeg
END:VEVENT
END:VCALENDAR