BEGIN:VCALENDAR
VERSION:2.0
PRODID:-//Graduate Tacoma - ECPv6.15.20//NONSGML v1.0//EN
CALSCALE:GREGORIAN
METHOD:PUBLISH
X-ORIGINAL-URL:https://graduatetacoma.org
X-WR-CALDESC:Events for Graduate Tacoma
REFRESH-INTERVAL;VALUE=DURATION:PT1H
X-Robots-Tag:noindex
X-PUBLISHED-TTL:PT1H
BEGIN:VTIMEZONE
TZID:America/Los_Angeles
BEGIN:DAYLIGHT
TZOFFSETFROM:-0800
TZOFFSETTO:-0700
TZNAME:PDT
DTSTART:20220313T100000
END:DAYLIGHT
BEGIN:STANDARD
TZOFFSETFROM:-0700
TZOFFSETTO:-0800
TZNAME:PST
DTSTART:20221106T090000
END:STANDARD
BEGIN:DAYLIGHT
TZOFFSETFROM:-0800
TZOFFSETTO:-0700
TZNAME:PDT
DTSTART:20230312T100000
END:DAYLIGHT
BEGIN:STANDARD
TZOFFSETFROM:-0700
TZOFFSETTO:-0800
TZNAME:PST
DTSTART:20231105T090000
END:STANDARD
BEGIN:DAYLIGHT
TZOFFSETFROM:-0800
TZOFFSETTO:-0700
TZNAME:PDT
DTSTART:20240310T100000
END:DAYLIGHT
BEGIN:STANDARD
TZOFFSETFROM:-0700
TZOFFSETTO:-0800
TZNAME:PST
DTSTART:20241103T090000
END:STANDARD
BEGIN:DAYLIGHT
TZOFFSETFROM:-0800
TZOFFSETTO:-0700
TZNAME:PDT
DTSTART:20250309T100000
END:DAYLIGHT
BEGIN:STANDARD
TZOFFSETFROM:-0700
TZOFFSETTO:-0800
TZNAME:PST
DTSTART:20251102T090000
END:STANDARD
END:VTIMEZONE
BEGIN:VEVENT
DTSTART;TZID=America/Los_Angeles:20231102T080000
DTEND;TZID=America/Los_Angeles:20240521T235900
DTSTAMP:20260421T025821
CREATED:20231102T170022Z
LAST-MODIFIED:20231102T210223Z
UID:23025-1698912000-1716335940@graduatetacoma.org
SUMMARY:2024 Willie Stewart Community Service Scholarship
DESCRIPTION:The Willie Stewart Community Service Scholarship program celebrates and recognizes Pierce County high school seniors who have given back to their community through volunteer service. Scholarships in the amount of $2\,500 are awarded to graduating seniors in a competitive process. In 2023\, 14 local seniors received this scholarship.
URL:https://graduatetacoma.org/event/2024-willie-stewart-community-service-scholarship/
LOCATION:WA
CATEGORIES:Consortium,General Community
ATTACH;FMTTYPE=application/pdf:https://graduatetacoma.org/wp-content/uploads/2023/11/Willie-Stewart-Scholarship-2024-Flyer.pdf
END:VEVENT
BEGIN:VEVENT
DTSTART;VALUE=DATE:20240130
DTEND;VALUE=DATE:20240326
DTSTAMP:20260421T025821
CREATED:20240130T235806Z
LAST-MODIFIED:20240130T235837Z
UID:25559-1706572800-1711411199@graduatetacoma.org
SUMMARY:Tacoma Creates: 2024-25 Applications Open
DESCRIPTION:Tacoma Creates is now accepting applications for its fifth year of funding\, supporting cultural organizations’ programs and events to be presented between July 1\, 2024 and June 30\, 2025! \nTacoma Creates supports organizations whose primary purpose is to advance and/or preserve arts\, culture\, heritage\, and/or science through two funding categories: Comprehensive Organizational Support and Impact Funding. \nFunding is determined through a competitive application process and is intended to help eligible non-profit organizations expand equitable access to public programs\, grow educational options for youth\, increase opportunities in neighborhoods throughout Tacoma\, and build sustainability for continued services. \n\n\n\nDeadline for the Comprehensive Organizational Support application is Monday\, March 11\, 2024\, 11:59pm.\n\n\n\n\n\n\nDeadline for the Impact Funding application is Monday\, March 25\, 2024\, 11:59pm.\n\n\n\n\nLearn more on their website: www.tacomacreates.org
URL:https://graduatetacoma.org/event/tacoma-creates-2024-25-applications-open/
LOCATION:WA
CATEGORIES:Consortium,General Community
ATTACH;FMTTYPE=image/jpeg:https://graduatetacoma.org/wp-content/uploads/2024/01/Tacoma-Creates-1.jpeg
END:VEVENT
BEGIN:VEVENT
DTSTART;VALUE=DATE:20240208
DTEND;VALUE=DATE:20240301
DTSTAMP:20260421T025821
CREATED:20240209T214602Z
LAST-MODIFIED:20240209T214713Z
UID:25987-1707350400-1709251199@graduatetacoma.org
SUMMARY:Funding Opportunity: Peace Point Partnership Grant for Aligning & Enhancing Pierce County Youth Violence Prevention
DESCRIPTION:Imagine Justice Project has partnered with the Tacoma-Pierce County Health Department and the Washington State Department of Commerce Office of Firearm Safety & Violence Prevention to offer funding to community-based organizations in Pierce County. The funding is This funding is intended to build on existing efforts in Pierce County to reduce youth violence\, with a specific focus on firearm-related violence involving youth ages 11-24.
URL:https://graduatetacoma.org/event/peace-point-partnership-grant-for-aligning-enhancing-pierce-county-youth-violence-prevention/
LOCATION:WA
CATEGORIES:Consortium,General Community
ATTACH;FMTTYPE=image/webp:https://graduatetacoma.org/wp-content/uploads/2024/02/3cb5c5_88493a0621c843758f57ddd6a13bd12cmv2.webp
END:VEVENT
BEGIN:VEVENT
DTSTART;TZID=America/Los_Angeles:20240220T120000
DTEND;TZID=America/Los_Angeles:20240220T160000
DTSTAMP:20260421T025821
CREATED:20240209T215412Z
LAST-MODIFIED:20240209T215412Z
UID:25994-1708430400-1708444800@graduatetacoma.org
SUMMARY:Silas "Financial Aid Takedown"
DESCRIPTION:On February 20th from 12-4 join us in the Silas Career Center to work on all things financial aid including the WASFA\, FAFSA\, and scholarship applications. There will be lunch and fun prizes gifted throughout the event\, so don’t miss out! Stop by for a quick question or come and go as you please! Please make sure to complete your FSA ID before attending. Reach out to Ms. Becca at Rackerm1@tacoma.k12.wa.us with any questions \nRegister in advance here: https://pcpathways.my.site.com/registrationCFA/s/ \nFinancial aid takedown 2.20 flyer
URL:https://graduatetacoma.org/event/silas-financial-aid-takedown/
LOCATION:Silas High School\, 1202 N. Orchard St\, Tacoma\, WA\, 98406\, United States
CATEGORIES:Financial Aid
ATTACH;FMTTYPE=image/png:https://graduatetacoma.org/wp-content/uploads/2024/01/2024-Free-Aid-February-Banner.png
ORGANIZER;CN="College Success Foundation":MAILTO:info@collegesuccessfoundation.org
END:VEVENT
BEGIN:VEVENT
DTSTART;TZID=America/Los_Angeles:20240220T140000
DTEND;TZID=America/Los_Angeles:20240220T150000
DTSTAMP:20260421T025821
CREATED:20231214T191223Z
LAST-MODIFIED:20231214T191223Z
UID:23919-1708437600-1708441200@graduatetacoma.org
SUMMARY:Student Mental Health: Creating an Inclusive Community of Care
DESCRIPTION:We’re welcoming our student mental health programming advocates from The Jed Foundation back to NCAN to help you acquire the knowledge and tools to create a culture of care that not only safeguards mental well being but also fosters a sense of belonging and support within your organization. During this webinar\, our presenter invite you to: \n\nReflect on how a sense of belonging and mental well-being is linked to identity\nDiscuss how to build a community of care within your organization\nApply principles of culturally responsive support for mental well-being to their work with teens and young adults\nIdentify where to find additional resources\n\nPresenters:\n\nKiana Davis\, Senior Manager\, Educational Programming\, The Jed Foundation\n\nMembers: Free\nNon-members: $99. Join NCAN now to access all webinars for free.
URL:https://graduatetacoma.org/event/student-mental-health-creating-an-inclusive-community-of-care/
LOCATION:WA
CATEGORIES:Financial Aid,General Community
ATTACH;FMTTYPE=image/png:https://graduatetacoma.org/wp-content/uploads/2023/12/jed_mental_health__2_februar.png
END:VEVENT
BEGIN:VEVENT
DTSTART;TZID=America/Los_Angeles:20240220T180000
DTEND;TZID=America/Los_Angeles:20240220T190000
DTSTAMP:20260421T025821
CREATED:20231010T022653Z
LAST-MODIFIED:20231010T022653Z
UID:22511-1708452000-1708455600@graduatetacoma.org
SUMMARY:Student Loans Webinar
DESCRIPTION:This webinar is a deep dive into different types of loans\, connects borrowing to career decisions\, addresses consequences for nonpayment\, and provides tools to develop individual borrowing plans.
URL:https://graduatetacoma.org/event/student-loans-webinar/
LOCATION:WA
CATEGORIES:Financial Aid
ATTACH;FMTTYPE=image/jpeg:https://graduatetacoma.org/wp-content/uploads/2023/10/College-Success-Foundation.jpg
ORGANIZER;CN="College Success Foundation":MAILTO:info@collegesuccessfoundation.org
END:VEVENT
END:VCALENDAR