BEGIN:VCALENDAR
VERSION:2.0
PRODID:-//Graduate Tacoma - ECPv6.15.20//NONSGML v1.0//EN
CALSCALE:GREGORIAN
METHOD:PUBLISH
X-WR-CALNAME:Graduate Tacoma
X-ORIGINAL-URL:https://graduatetacoma.org
X-WR-CALDESC:Events for Graduate Tacoma
REFRESH-INTERVAL;VALUE=DURATION:PT1H
X-Robots-Tag:noindex
X-PUBLISHED-TTL:PT1H
BEGIN:VTIMEZONE
TZID:America/Los_Angeles
BEGIN:DAYLIGHT
TZOFFSETFROM:-0800
TZOFFSETTO:-0700
TZNAME:PDT
DTSTART:20210314T100000
END:DAYLIGHT
BEGIN:STANDARD
TZOFFSETFROM:-0700
TZOFFSETTO:-0800
TZNAME:PST
DTSTART:20211107T090000
END:STANDARD
BEGIN:DAYLIGHT
TZOFFSETFROM:-0800
TZOFFSETTO:-0700
TZNAME:PDT
DTSTART:20220313T100000
END:DAYLIGHT
BEGIN:STANDARD
TZOFFSETFROM:-0700
TZOFFSETTO:-0800
TZNAME:PST
DTSTART:20221106T090000
END:STANDARD
BEGIN:DAYLIGHT
TZOFFSETFROM:-0800
TZOFFSETTO:-0700
TZNAME:PDT
DTSTART:20230312T100000
END:DAYLIGHT
BEGIN:STANDARD
TZOFFSETFROM:-0700
TZOFFSETTO:-0800
TZNAME:PST
DTSTART:20231105T090000
END:STANDARD
END:VTIMEZONE
BEGIN:VEVENT
DTSTART;TZID=America/Los_Angeles:20221003T180000
DTEND;TZID=America/Los_Angeles:20221003T200000
DTSTAMP:20260422T071249
CREATED:20220929T213455Z
LAST-MODIFIED:20221004T063726Z
UID:16525-1664820000-1664827200@graduatetacoma.org
SUMMARY:FASFA/WASFA - For Students & Supporting Adults
DESCRIPTION:Students and families\, come join our FAFSA/WASFA webinar to learn about which financial aid form to apply to\, what documents you’ll need\, review the FAFSA/WASFA\, learn how to address special circumstances\, and prepare for next steps!
URL:https://graduatetacoma.org/event/fasfa-wasfa-for-students-supporting-adults/
LOCATION:Zoom: Register to Get Link
CATEGORIES:Financial Aid
ATTACH;FMTTYPE=image/jpeg:https://graduatetacoma.org/wp-content/uploads/2021/01/AdobeStock_310978336-scaled.jpeg
ORGANIZER;CN="College Success Foundation":MAILTO:info@collegesuccessfoundation.org
END:VEVENT
END:VCALENDAR