BEGIN:VCALENDAR
VERSION:2.0
PRODID:-//Graduate Tacoma - ECPv6.15.20//NONSGML v1.0//EN
CALSCALE:GREGORIAN
METHOD:PUBLISH
X-ORIGINAL-URL:https://graduatetacoma.org
X-WR-CALDESC:Events for Graduate Tacoma
REFRESH-INTERVAL;VALUE=DURATION:PT1H
X-Robots-Tag:noindex
X-PUBLISHED-TTL:PT1H
BEGIN:VTIMEZONE
TZID:America/Los_Angeles
BEGIN:DAYLIGHT
TZOFFSETFROM:-0800
TZOFFSETTO:-0700
TZNAME:PDT
DTSTART:20210314T100000
END:DAYLIGHT
BEGIN:STANDARD
TZOFFSETFROM:-0700
TZOFFSETTO:-0800
TZNAME:PST
DTSTART:20211107T090000
END:STANDARD
BEGIN:DAYLIGHT
TZOFFSETFROM:-0800
TZOFFSETTO:-0700
TZNAME:PDT
DTSTART:20220313T100000
END:DAYLIGHT
BEGIN:STANDARD
TZOFFSETFROM:-0700
TZOFFSETTO:-0800
TZNAME:PST
DTSTART:20221106T090000
END:STANDARD
BEGIN:DAYLIGHT
TZOFFSETFROM:-0800
TZOFFSETTO:-0700
TZNAME:PDT
DTSTART:20230312T100000
END:DAYLIGHT
BEGIN:STANDARD
TZOFFSETFROM:-0700
TZOFFSETTO:-0800
TZNAME:PST
DTSTART:20231105T090000
END:STANDARD
END:VTIMEZONE
BEGIN:VEVENT
DTSTART;TZID=America/Los_Angeles:20221019T170000
DTEND;TZID=America/Los_Angeles:20221019T183000
DTSTAMP:20260422T071931
CREATED:20221019T205352Z
LAST-MODIFIED:20221019T205352Z
UID:16782-1666198800-1666204200@graduatetacoma.org
SUMMARY:Financial Aid Lab & College & Career Fair
DESCRIPTION:All seniors and families are invited to Peninsula High School Main Gym for a College and Career Fair and Drop In Financial Aid Lab for help with FAFSA/WASFA applications.  Pizza will be provided.  Contact: Alexis Pappas\, PHS Career Center Specialist\, 253-530-4432
URL:https://graduatetacoma.org/event/financial-aid-lab-college-career-fair/
LOCATION:Peninsula High School\, 1405 Purdy Drive NW\, Gig Harbor\, WA\, WA\, 98332\, United States
CATEGORIES:Financial Aid
ATTACH;FMTTYPE=image/jpeg:https://graduatetacoma.org/wp-content/uploads/2022/09/AdobeStock_166557901-1-scaled.jpeg
END:VEVENT
BEGIN:VEVENT
DTSTART;TZID=America/Los_Angeles:20221019T173000
DTEND;TZID=America/Los_Angeles:20221019T193000
DTSTAMP:20260422T071931
CREATED:20220929T213113Z
LAST-MODIFIED:20220929T213156Z
UID:16499-1666200600-1666207800@graduatetacoma.org
SUMMARY:12th Year Campaign Statewide Financial Aid Completion
DESCRIPTION:Do you need assistance filing for financial aid or applying for college? The 12th Year Campaign is here to help! This fall we are partnering with high schools\, colleges\, and community based organizations to provide free virtual events to help you take the first steps to funding your post-secondary goals.
URL:https://graduatetacoma.org/event/12th-year-campaign-statewide-financial-aid-completion/
LOCATION:Zoom: Register to Get Link
CATEGORIES:Financial Aid
ATTACH;FMTTYPE=image/jpeg:https://graduatetacoma.org/wp-content/uploads/2020/12/virtual-convene-icon.jpg
ORGANIZER;CN="WA Student Achievement Council":MAILTO:info@wsac.wa.gov
END:VEVENT
BEGIN:VEVENT
DTSTART;TZID=America/Los_Angeles:20221019T180000
DTEND;TZID=America/Los_Angeles:20221019T193000
DTSTAMP:20260422T071931
CREATED:20220929T213642Z
LAST-MODIFIED:20221004T063931Z
UID:16527-1666202400-1666207800@graduatetacoma.org
SUMMARY:FAFSA/WASFA (Español) - Para Estudiantes y Familias
DESCRIPTION:Estudiantes\, adultos y familias podran aprender qué formulario solicitar\, cómo prepararse y postularse\, cómo evitar errores comunes\, cómo abordar circunstancias especiales y más!
URL:https://graduatetacoma.org/event/fafsa-wasfa-espanol-para-estudiantes-y-familias-2/
LOCATION:Zoom: Register to Get Link
CATEGORIES:Financial Aid
ATTACH;FMTTYPE=image/jpeg:https://graduatetacoma.org/wp-content/uploads/2022/09/AdobeStock_221170287-scaled.jpeg
ORGANIZER;CN="College Success Foundation":MAILTO:info@collegesuccessfoundation.org
END:VEVENT
END:VCALENDAR