BEGIN:VCALENDAR
VERSION:2.0
PRODID:-//Graduate Tacoma - ECPv6.15.20//NONSGML v1.0//EN
CALSCALE:GREGORIAN
METHOD:PUBLISH
X-WR-CALNAME:Graduate Tacoma
X-ORIGINAL-URL:https://graduatetacoma.org
X-WR-CALDESC:Events for Graduate Tacoma
REFRESH-INTERVAL;VALUE=DURATION:PT1H
X-Robots-Tag:noindex
X-PUBLISHED-TTL:PT1H
BEGIN:VTIMEZONE
TZID:America/Los_Angeles
BEGIN:DAYLIGHT
TZOFFSETFROM:-0800
TZOFFSETTO:-0700
TZNAME:PDT
DTSTART:20210314T100000
END:DAYLIGHT
BEGIN:STANDARD
TZOFFSETFROM:-0700
TZOFFSETTO:-0800
TZNAME:PST
DTSTART:20211107T090000
END:STANDARD
BEGIN:DAYLIGHT
TZOFFSETFROM:-0800
TZOFFSETTO:-0700
TZNAME:PDT
DTSTART:20220313T100000
END:DAYLIGHT
BEGIN:STANDARD
TZOFFSETFROM:-0700
TZOFFSETTO:-0800
TZNAME:PST
DTSTART:20221106T090000
END:STANDARD
BEGIN:DAYLIGHT
TZOFFSETFROM:-0800
TZOFFSETTO:-0700
TZNAME:PDT
DTSTART:20230312T100000
END:DAYLIGHT
BEGIN:STANDARD
TZOFFSETFROM:-0700
TZOFFSETTO:-0800
TZNAME:PST
DTSTART:20231105T090000
END:STANDARD
END:VTIMEZONE
BEGIN:VEVENT
DTSTART;TZID=America/Los_Angeles:20221011T140000
DTEND;TZID=America/Los_Angeles:20221011T153000
DTSTAMP:20260422T071807
CREATED:20221011T185318Z
LAST-MODIFIED:20221011T185318Z
UID:16709-1665496800-1665502200@graduatetacoma.org
SUMMARY:Financial Aid\, Scholarship & College Application Support
DESCRIPTION:Drop by the Lincoln High School Library to get individual support for financial aid\, scholarship\, and college applications on Tuesdays from 2:15 – 3:30 pm in October.  No registration is required.  Contact: Rob Jones\, College Success Foundation\, rejones@collegesuccessfoundation.org
URL:https://graduatetacoma.org/event/financial-aid-scholarship-college-application-support/
LOCATION:Lincoln High School\, 701 S. 37th St\, Tacoma\, WA\, 98418\, United States
CATEGORIES:Financial Aid
ATTACH;FMTTYPE=image/jpeg:https://graduatetacoma.org/wp-content/uploads/2022/09/AdobeStock_166558023-scaled.jpeg
ORGANIZER;CN="College Success Foundation":MAILTO:info@collegesuccessfoundation.org
END:VEVENT
END:VCALENDAR