BEGIN:VCALENDAR
VERSION:2.0
PRODID:-//Graduate Tacoma - ECPv6.15.20//NONSGML v1.0//EN
CALSCALE:GREGORIAN
METHOD:PUBLISH
X-WR-CALNAME:Graduate Tacoma
X-ORIGINAL-URL:https://graduatetacoma.org
X-WR-CALDESC:Events for Graduate Tacoma
REFRESH-INTERVAL;VALUE=DURATION:PT1H
X-Robots-Tag:noindex
X-PUBLISHED-TTL:PT1H
BEGIN:VTIMEZONE
TZID:America/Los_Angeles
BEGIN:DAYLIGHT
TZOFFSETFROM:-0800
TZOFFSETTO:-0700
TZNAME:PDT
DTSTART:20220313T100000
END:DAYLIGHT
BEGIN:STANDARD
TZOFFSETFROM:-0700
TZOFFSETTO:-0800
TZNAME:PST
DTSTART:20221106T090000
END:STANDARD
BEGIN:DAYLIGHT
TZOFFSETFROM:-0800
TZOFFSETTO:-0700
TZNAME:PDT
DTSTART:20230312T100000
END:DAYLIGHT
BEGIN:STANDARD
TZOFFSETFROM:-0700
TZOFFSETTO:-0800
TZNAME:PST
DTSTART:20231105T090000
END:STANDARD
BEGIN:DAYLIGHT
TZOFFSETFROM:-0800
TZOFFSETTO:-0700
TZNAME:PDT
DTSTART:20240310T100000
END:DAYLIGHT
BEGIN:STANDARD
TZOFFSETFROM:-0700
TZOFFSETTO:-0800
TZNAME:PST
DTSTART:20241103T090000
END:STANDARD
END:VTIMEZONE
BEGIN:VEVENT
DTSTART;TZID=America/Los_Angeles:20230105T140000
DTEND;TZID=America/Los_Angeles:20230105T153000
DTSTAMP:20260422T152608
CREATED:20221214T000000Z
LAST-MODIFIED:20221214T000000Z
UID:18193-1672927200-1672932600@graduatetacoma.org
SUMMARY:Drop-In Thursday Financial Aid Support
DESCRIPTION:Drop-in for Financial Aid\, Scholarship\, College\, and Career support every Thursday afternoon from 2:15-3:30 pm at the Silas High School Career Center.  All students are welcome and no registration or appointment is necessary.  Contact Casey Parrot\, College Success Foundation\, cparrot@collegesuccessfoundation.org for more information.
URL:https://graduatetacoma.org/event/drop-in-thursday-financial-aid-support/
LOCATION:Silas High School\, 1202 N. Orchard St\, Tacoma\, WA\, 98406\, United States
CATEGORIES:Financial Aid
ATTACH;FMTTYPE=image/jpeg:https://graduatetacoma.org/wp-content/uploads/2022/11/AdobeStock_213646960-scaled.jpeg
ORGANIZER;CN="College Success Foundation":MAILTO:info@collegesuccessfoundation.org
END:VEVENT
BEGIN:VEVENT
DTSTART;TZID=America/Los_Angeles:20230105T140000
DTEND;TZID=America/Los_Angeles:20230105T153000
DTSTAMP:20260422T152608
CREATED:20221214T221746Z
LAST-MODIFIED:20221214T221746Z
UID:18275-1672927200-1672932600@graduatetacoma.org
SUMMARY:Thursday Drop-In Support
DESCRIPTION:Join the College Success Foundation for weekly drop-in support with Financial Aid\, Scholarship\, College and Career applications every Thursday\, from 2:10-3:30 pm at Silas High School Career Center.  All students are welcome.  Contact Casey Parrott\, cparrott@collegesuccessfoundation.org\, for more information.
URL:https://graduatetacoma.org/event/thursday-drop-in-support/
LOCATION:Silas High School\, 1202 N. Orchard St\, Tacoma\, WA\, 98406\, United States
CATEGORIES:Financial Aid
ATTACH;FMTTYPE=image/jpeg:https://graduatetacoma.org/wp-content/uploads/2022/09/AdobeStock_166557901-1-scaled.jpeg
ORGANIZER;CN="College Success Foundation":MAILTO:info@collegesuccessfoundation.org
END:VEVENT
END:VCALENDAR