BEGIN:VCALENDAR
VERSION:2.0
PRODID:-//Graduate Tacoma - ECPv6.15.20//NONSGML v1.0//EN
CALSCALE:GREGORIAN
METHOD:PUBLISH
X-ORIGINAL-URL:https://graduatetacoma.org
X-WR-CALDESC:Events for Graduate Tacoma
REFRESH-INTERVAL;VALUE=DURATION:PT1H
X-Robots-Tag:noindex
X-PUBLISHED-TTL:PT1H
BEGIN:VTIMEZONE
TZID:America/Los_Angeles
BEGIN:DAYLIGHT
TZOFFSETFROM:-0800
TZOFFSETTO:-0700
TZNAME:PDT
DTSTART:20220313T100000
END:DAYLIGHT
BEGIN:STANDARD
TZOFFSETFROM:-0700
TZOFFSETTO:-0800
TZNAME:PST
DTSTART:20221106T090000
END:STANDARD
BEGIN:DAYLIGHT
TZOFFSETFROM:-0800
TZOFFSETTO:-0700
TZNAME:PDT
DTSTART:20230312T100000
END:DAYLIGHT
BEGIN:STANDARD
TZOFFSETFROM:-0700
TZOFFSETTO:-0800
TZNAME:PST
DTSTART:20231105T090000
END:STANDARD
BEGIN:DAYLIGHT
TZOFFSETFROM:-0800
TZOFFSETTO:-0700
TZNAME:PDT
DTSTART:20240310T100000
END:DAYLIGHT
BEGIN:STANDARD
TZOFFSETFROM:-0700
TZOFFSETTO:-0800
TZNAME:PST
DTSTART:20241103T090000
END:STANDARD
END:VTIMEZONE
BEGIN:VEVENT
DTSTART;TZID=America/Los_Angeles:20231214T080000
DTEND;TZID=America/Los_Angeles:20231214T170000
DTSTAMP:20260421T124648
CREATED:20231214T190635Z
LAST-MODIFIED:20231214T190635Z
UID:23914-1702540800-1702573200@graduatetacoma.org
SUMMARY:NCAN Conference: Submitting A Successful Proposal
DESCRIPTION:Thinking about presenting an effective practices workshop or a roundtable discussion at NCAN National Conference in Anaheim\, CA? \nOur conference attracts a wide range of postsecondary attainment professionals\, from direct student service leaders in community based organizations and K-12 school districts to policy gurus and state agency representatives from around the country. As always\, we are looking to fill our conference session slate with timely\, practical yet innovative content for all participants. If last year’s 1\,300 attendees is any indication of how many people will attend this year\, we will need more of everything! \nPreparing a proposal for a national conference may sound daunting at first\, but we want to give you all the tools you need to craft that roundtable discussion or effective practices workshop. Join the NCAN’s Member Services Team for a webinar full of tips and tricks that you can use to make your proposal an easy selection. \nThe webinar is open to the public\, so feel free to share with your colleagues and across your networks who are working diligently to make a difference in their students’ lives.
URL:https://graduatetacoma.org/event/ncan-conference-submitting-a-successful-proposal/
CATEGORIES:Financial Aid,General Community
ATTACH;FMTTYPE=image/png:https://graduatetacoma.org/wp-content/uploads/2023/12/conference_cfp.png
END:VEVENT
END:VCALENDAR