BEGIN:VCALENDAR
VERSION:2.0
PRODID:-//Graduate Tacoma - ECPv6.15.20//NONSGML v1.0//EN
CALSCALE:GREGORIAN
METHOD:PUBLISH
X-WR-CALNAME:Graduate Tacoma
X-ORIGINAL-URL:https://graduatetacoma.org
X-WR-CALDESC:Events for Graduate Tacoma
REFRESH-INTERVAL;VALUE=DURATION:PT1H
X-Robots-Tag:noindex
X-PUBLISHED-TTL:PT1H
BEGIN:VTIMEZONE
TZID:America/Los_Angeles
BEGIN:DAYLIGHT
TZOFFSETFROM:-0800
TZOFFSETTO:-0700
TZNAME:PDT
DTSTART:20230312T100000
END:DAYLIGHT
BEGIN:STANDARD
TZOFFSETFROM:-0700
TZOFFSETTO:-0800
TZNAME:PST
DTSTART:20231105T090000
END:STANDARD
BEGIN:DAYLIGHT
TZOFFSETFROM:-0800
TZOFFSETTO:-0700
TZNAME:PDT
DTSTART:20240310T100000
END:DAYLIGHT
BEGIN:STANDARD
TZOFFSETFROM:-0700
TZOFFSETTO:-0800
TZNAME:PST
DTSTART:20241103T090000
END:STANDARD
BEGIN:DAYLIGHT
TZOFFSETFROM:-0800
TZOFFSETTO:-0700
TZNAME:PDT
DTSTART:20250309T100000
END:DAYLIGHT
BEGIN:STANDARD
TZOFFSETFROM:-0700
TZOFFSETTO:-0800
TZNAME:PST
DTSTART:20251102T090000
END:STANDARD
END:VTIMEZONE
BEGIN:VEVENT
DTSTART;TZID=America/Los_Angeles:20240326T180000
DTEND;TZID=America/Los_Angeles:20240326T190000
DTSTAMP:20260421T180552
CREATED:20231010T022834Z
LAST-MODIFIED:20231010T022834Z
UID:22513-1711476000-1711479600@graduatetacoma.org
SUMMARY:Financial Aid Award Letters Webinar
DESCRIPTION:Come and learn to better understand your financial aid award offer\, provide you with tools to assess true affordability\, and strategies to address too much unmet need.
URL:https://graduatetacoma.org/event/financial-aid-award-letters-webinar/
LOCATION:WA
CATEGORIES:Financial Aid
ATTACH;FMTTYPE=image/jpeg:https://graduatetacoma.org/wp-content/uploads/2023/10/College-Success-Foundation.jpg
ORGANIZER;CN="College Success Foundation":MAILTO:info@collegesuccessfoundation.org
END:VEVENT
BEGIN:VEVENT
DTSTART;TZID=America/Los_Angeles:20240214T140000
DTEND;TZID=America/Los_Angeles:20240214T160000
DTSTAMP:20260421T180552
CREATED:20240210T000942Z
LAST-MODIFIED:20240210T000942Z
UID:26029-1707919200-1707926400@graduatetacoma.org
SUMMARY:EOC February Winter Workshops
DESCRIPTION:For the month of February\, the Education and Employment Opportunity Center (EOC) will be hosting a series of workshops/info sessions focused on GED & High School Completions; Financial Aid & College Applications; Career Assessment; and much more! \nOur events and workshops all always free\, including enrolling into the EOC program.
URL:https://graduatetacoma.org/event/eoc-february-winter-workshops/
LOCATION:Evergreen State College\, 1210 S 6th Ave\, Tacoma\, WA\, 98405\, United States
CATEGORIES:Financial Aid,General Community
ATTACH;FMTTYPE=image/png:https://graduatetacoma.org/wp-content/uploads/2024/02/EOC-February-Events-2024.png
END:VEVENT
BEGIN:VEVENT
DTSTART;TZID=America/Los_Angeles:20240327T170000
DTEND;TZID=America/Los_Angeles:20240327T200000
DTSTAMP:20260421T180552
CREATED:20240222T171345Z
LAST-MODIFIED:20240222T181811Z
UID:26463-1711558800-1711569600@graduatetacoma.org
SUMMARY:TACOMA TOGETHER | UW TACOMA X MI CENTRO
DESCRIPTION:Join us for an evening of connection and empowerment!  UW Tacoma has invited Mi Centro’s families\, staff\, and volunteers for their inaugural Tacoma Together event! Let’s connect\, share\, and empower the next generation of scholars and leaders in the South Sound. See you there! On March 27th from 5:00pm-8:00pm!\n\n#TacomaTogether #Empowerment #Community”\n\n“¡Únete a nosotros para una tarde de conexión y empoderamiento!  UW Tacoma ha invitado a las familias\, el personal y los voluntarios de Mi Centro a su evento inaugural Tacoma Together. ¡Conectemos\, compartamos y empoderemos a la próxima generación de académicos y líderes en South Sound. ¡Nos vemos allí! El 27 de marzo de 5:00 pm a 8:00 pm. #TacomaTogether #Empoderamiento #Comunidad”\n\n\nRegister here: Tacoma Together | UW Tacoma x Mi Centro\n\nDinner included \n\nUniversity Of Washington Tacoma – William W. Philip Hall (WPH)\n1918 Pacific Ave\nTacoma\, WA 98402\nUnited States\n\nMap and Directions
URL:https://graduatetacoma.org/event/tacoma-together-uw-tacoma-x-mi-centro/
LOCATION:UW Tacoma William Philip Hall\, 1918 Pacific Ave\, Tacoma\, WA\, 98402
CATEGORIES:Financial Aid
ATTACH;FMTTYPE=image/jpeg:https://graduatetacoma.org/wp-content/uploads/2020/02/uwt-logo.jpg
END:VEVENT
BEGIN:VEVENT
DTSTART;TZID=America/Los_Angeles:20240207T100000
DTEND;TZID=America/Los_Angeles:20240207T110000
DTSTAMP:20260421T180552
CREATED:20240116T205206Z
LAST-MODIFIED:20240116T223850Z
UID:24823-1707300000-1707303600@graduatetacoma.org
SUMMARY:WSAC Wednesday
DESCRIPTION:Practitioners\, do you have questions about financial aid? WSAC’s College Access and Support division is here to help! Join us the first Wednesday of every month from 10:00-11:00am for an open Q&A. Register in advance at https://bit.ly/WSACWednesday.
URL:https://graduatetacoma.org/event/wsac-wednesday/
LOCATION:WA
CATEGORIES:Financial Aid
ATTACH;FMTTYPE=image/png:https://graduatetacoma.org/wp-content/uploads/2024/01/6ed51d53-3d0f-4ace-83c2-3696b5005ed1.png
ORGANIZER;CN="Washington Student Achievement Council":MAILTO:info@wsac.wa.gov
END:VEVENT
BEGIN:VEVENT
DTSTART;TZID=America/Los_Angeles:20240214T140000
DTEND;TZID=America/Los_Angeles:20240214T160000
DTSTAMP:20260421T180552
CREATED:20240210T000942Z
LAST-MODIFIED:20240210T000942Z
UID:26029-1707919200-1707926400@graduatetacoma.org
SUMMARY:EOC February Winter Workshops
DESCRIPTION:For the month of February\, the Education and Employment Opportunity Center (EOC) will be hosting a series of workshops/info sessions focused on GED & High School Completions; Financial Aid & College Applications; Career Assessment; and much more! \nOur events and workshops all always free\, including enrolling into the EOC program.
URL:https://graduatetacoma.org/event/eoc-february-winter-workshops/
LOCATION:Evergreen State College\, 1210 S 6th Ave\, Tacoma\, WA\, 98405\, United States
CATEGORIES:Financial Aid,General Community
ATTACH;FMTTYPE=image/png:https://graduatetacoma.org/wp-content/uploads/2024/02/EOC-February-Events-2024.png
END:VEVENT
BEGIN:VEVENT
DTSTART;TZID=America/Los_Angeles:20240214T140000
DTEND;TZID=America/Los_Angeles:20240214T160000
DTSTAMP:20260421T180552
CREATED:20240210T000942Z
LAST-MODIFIED:20240210T000942Z
UID:26029-1707919200-1707926400@graduatetacoma.org
SUMMARY:EOC February Winter Workshops
DESCRIPTION:For the month of February\, the Education and Employment Opportunity Center (EOC) will be hosting a series of workshops/info sessions focused on GED & High School Completions; Financial Aid & College Applications; Career Assessment; and much more! \nOur events and workshops all always free\, including enrolling into the EOC program.
URL:https://graduatetacoma.org/event/eoc-february-winter-workshops/
LOCATION:Evergreen State College\, 1210 S 6th Ave\, Tacoma\, WA\, 98405\, United States
CATEGORIES:Financial Aid,General Community
ATTACH;FMTTYPE=image/png:https://graduatetacoma.org/wp-content/uploads/2024/02/EOC-February-Events-2024.png
END:VEVENT
BEGIN:VEVENT
DTSTART;TZID=America/Los_Angeles:20240411T080000
DTEND;TZID=America/Los_Angeles:20240411T170000
DTSTAMP:20260421T180552
CREATED:20240411T200113Z
LAST-MODIFIED:20240411T200113Z
UID:27472-1712822400-1712854800@graduatetacoma.org
SUMMARY:Upcoming Webinar: How To Submit the 2024–25 FAFSA® Form (in Spanish)
DESCRIPTION:Como Presentar el Formulario FAFSA® 2024-25 \nMiércoles\, 17 de Abril de 2024 | 8:00 p.m. hora del Este \nRegístrese para participar en un seminario web para todos sobre cómo presentar el formulario FAFSA 2024-25 a estudiantes y familias. \nWe invite you to join our How To Submit the 2024–25 FAFSA® Form webinar in Spanish with English subtitles on Wednesday\, April 17\, 2024\, at 8 p.m. Eastern time. \nThis webinar is open for students\, families\, and college access professionals who support Spanish-speaking communities. We’ll outline the process to submit the 2024–25 Free Application for Federal Student Aid (FAFSA®) form and helpful resources.
URL:https://graduatetacoma.org/event/upcoming-webinar-how-to-submit-the-2024-25-fafsa-form-in-spanish/
LOCATION:WA
CATEGORIES:CFA Partners,CFA Students,Financial Aid
ATTACH;FMTTYPE=image/webp:https://graduatetacoma.org/wp-content/uploads/2024/04/BetterFAFSABetterFutureWebinar.webp
END:VEVENT
BEGIN:VEVENT
DTSTART;TZID=America/Los_Angeles:20240214T140000
DTEND;TZID=America/Los_Angeles:20240214T160000
DTSTAMP:20260421T180552
CREATED:20240210T000942Z
LAST-MODIFIED:20240210T000942Z
UID:26029-1707919200-1707926400@graduatetacoma.org
SUMMARY:EOC February Winter Workshops
DESCRIPTION:For the month of February\, the Education and Employment Opportunity Center (EOC) will be hosting a series of workshops/info sessions focused on GED & High School Completions; Financial Aid & College Applications; Career Assessment; and much more! \nOur events and workshops all always free\, including enrolling into the EOC program.
URL:https://graduatetacoma.org/event/eoc-february-winter-workshops/
LOCATION:Evergreen State College\, 1210 S 6th Ave\, Tacoma\, WA\, 98405\, United States
CATEGORIES:Financial Aid,General Community
ATTACH;FMTTYPE=image/png:https://graduatetacoma.org/wp-content/uploads/2024/02/EOC-February-Events-2024.png
END:VEVENT
BEGIN:VEVENT
DTSTART;TZID=America/Los_Angeles:20240214T140000
DTEND;TZID=America/Los_Angeles:20240214T160000
DTSTAMP:20260421T180552
CREATED:20240210T000942Z
LAST-MODIFIED:20240210T000942Z
UID:26029-1707919200-1707926400@graduatetacoma.org
SUMMARY:EOC February Winter Workshops
DESCRIPTION:For the month of February\, the Education and Employment Opportunity Center (EOC) will be hosting a series of workshops/info sessions focused on GED & High School Completions; Financial Aid & College Applications; Career Assessment; and much more! \nOur events and workshops all always free\, including enrolling into the EOC program.
URL:https://graduatetacoma.org/event/eoc-february-winter-workshops/
LOCATION:Evergreen State College\, 1210 S 6th Ave\, Tacoma\, WA\, 98405\, United States
CATEGORIES:Financial Aid,General Community
ATTACH;FMTTYPE=image/png:https://graduatetacoma.org/wp-content/uploads/2024/02/EOC-February-Events-2024.png
END:VEVENT
BEGIN:VEVENT
DTSTART;TZID=America/Los_Angeles:20240424T150000
DTEND;TZID=America/Los_Angeles:20240424T180000
DTSTAMP:20260421T180552
CREATED:20240311T222713Z
LAST-MODIFIED:20240311T222713Z
UID:26977-1713970800-1713981600@graduatetacoma.org
SUMMARY:Program Expo-Clover Park Technical College
DESCRIPTION:Explore CPTC’s 40 programs\, connect with instructors\, and discover the best fit for your career goals. On site FAFSA/WASFA help is available. All students who submit their FAFSA/WASFA application at the event are eligible for a gift card incentive and snacks.
URL:https://graduatetacoma.org/event/program-expo-clover-park-technical-college/
LOCATION:Clover Park Technical College\, 4500 Steilacoom Blvd SW\, Lakewood\, WA\, United States
CATEGORIES:Financial Aid,Tacoma College Support Network
END:VEVENT
BEGIN:VEVENT
DTSTART;TZID=America/Los_Angeles:20240207T100000
DTEND;TZID=America/Los_Angeles:20240207T110000
DTSTAMP:20260421T180552
CREATED:20240116T205206Z
LAST-MODIFIED:20240116T223850Z
UID:24823-1707300000-1707303600@graduatetacoma.org
SUMMARY:WSAC Wednesday
DESCRIPTION:Practitioners\, do you have questions about financial aid? WSAC’s College Access and Support division is here to help! Join us the first Wednesday of every month from 10:00-11:00am for an open Q&A. Register in advance at https://bit.ly/WSACWednesday.
URL:https://graduatetacoma.org/event/wsac-wednesday/
LOCATION:WA
CATEGORIES:Financial Aid
ATTACH;FMTTYPE=image/png:https://graduatetacoma.org/wp-content/uploads/2024/01/6ed51d53-3d0f-4ace-83c2-3696b5005ed1.png
ORGANIZER;CN="Washington Student Achievement Council":MAILTO:info@wsac.wa.gov
END:VEVENT
BEGIN:VEVENT
DTSTART;TZID=America/Los_Angeles:20240214T140000
DTEND;TZID=America/Los_Angeles:20240214T160000
DTSTAMP:20260421T180552
CREATED:20240210T000942Z
LAST-MODIFIED:20240210T000942Z
UID:26029-1707919200-1707926400@graduatetacoma.org
SUMMARY:EOC February Winter Workshops
DESCRIPTION:For the month of February\, the Education and Employment Opportunity Center (EOC) will be hosting a series of workshops/info sessions focused on GED & High School Completions; Financial Aid & College Applications; Career Assessment; and much more! \nOur events and workshops all always free\, including enrolling into the EOC program.
URL:https://graduatetacoma.org/event/eoc-february-winter-workshops/
LOCATION:Evergreen State College\, 1210 S 6th Ave\, Tacoma\, WA\, 98405\, United States
CATEGORIES:Financial Aid,General Community
ATTACH;FMTTYPE=image/png:https://graduatetacoma.org/wp-content/uploads/2024/02/EOC-February-Events-2024.png
END:VEVENT
BEGIN:VEVENT
DTSTART;TZID=America/Los_Angeles:20240214T140000
DTEND;TZID=America/Los_Angeles:20240214T160000
DTSTAMP:20260421T180552
CREATED:20240210T000942Z
LAST-MODIFIED:20240210T000942Z
UID:26029-1707919200-1707926400@graduatetacoma.org
SUMMARY:EOC February Winter Workshops
DESCRIPTION:For the month of February\, the Education and Employment Opportunity Center (EOC) will be hosting a series of workshops/info sessions focused on GED & High School Completions; Financial Aid & College Applications; Career Assessment; and much more! \nOur events and workshops all always free\, including enrolling into the EOC program.
URL:https://graduatetacoma.org/event/eoc-february-winter-workshops/
LOCATION:Evergreen State College\, 1210 S 6th Ave\, Tacoma\, WA\, 98405\, United States
CATEGORIES:Financial Aid,General Community
ATTACH;FMTTYPE=image/png:https://graduatetacoma.org/wp-content/uploads/2024/02/EOC-February-Events-2024.png
END:VEVENT
BEGIN:VEVENT
DTSTART;TZID=America/Los_Angeles:20240214T140000
DTEND;TZID=America/Los_Angeles:20240214T160000
DTSTAMP:20260421T180552
CREATED:20240210T000942Z
LAST-MODIFIED:20240210T000942Z
UID:26029-1707919200-1707926400@graduatetacoma.org
SUMMARY:EOC February Winter Workshops
DESCRIPTION:For the month of February\, the Education and Employment Opportunity Center (EOC) will be hosting a series of workshops/info sessions focused on GED & High School Completions; Financial Aid & College Applications; Career Assessment; and much more! \nOur events and workshops all always free\, including enrolling into the EOC program.
URL:https://graduatetacoma.org/event/eoc-february-winter-workshops/
LOCATION:Evergreen State College\, 1210 S 6th Ave\, Tacoma\, WA\, 98405\, United States
CATEGORIES:Financial Aid,General Community
ATTACH;FMTTYPE=image/png:https://graduatetacoma.org/wp-content/uploads/2024/02/EOC-February-Events-2024.png
END:VEVENT
BEGIN:VEVENT
DTSTART;TZID=America/Los_Angeles:20240214T140000
DTEND;TZID=America/Los_Angeles:20240214T160000
DTSTAMP:20260421T180552
CREATED:20240210T000942Z
LAST-MODIFIED:20240210T000942Z
UID:26029-1707919200-1707926400@graduatetacoma.org
SUMMARY:EOC February Winter Workshops
DESCRIPTION:For the month of February\, the Education and Employment Opportunity Center (EOC) will be hosting a series of workshops/info sessions focused on GED & High School Completions; Financial Aid & College Applications; Career Assessment; and much more! \nOur events and workshops all always free\, including enrolling into the EOC program.
URL:https://graduatetacoma.org/event/eoc-february-winter-workshops/
LOCATION:Evergreen State College\, 1210 S 6th Ave\, Tacoma\, WA\, 98405\, United States
CATEGORIES:Financial Aid,General Community
ATTACH;FMTTYPE=image/png:https://graduatetacoma.org/wp-content/uploads/2024/02/EOC-February-Events-2024.png
END:VEVENT
BEGIN:VEVENT
DTSTART;TZID=America/Los_Angeles:20240214T140000
DTEND;TZID=America/Los_Angeles:20240214T160000
DTSTAMP:20260421T180552
CREATED:20240210T000942Z
LAST-MODIFIED:20240210T000942Z
UID:26029-1707919200-1707926400@graduatetacoma.org
SUMMARY:EOC February Winter Workshops
DESCRIPTION:For the month of February\, the Education and Employment Opportunity Center (EOC) will be hosting a series of workshops/info sessions focused on GED & High School Completions; Financial Aid & College Applications; Career Assessment; and much more! \nOur events and workshops all always free\, including enrolling into the EOC program.
URL:https://graduatetacoma.org/event/eoc-february-winter-workshops/
LOCATION:Evergreen State College\, 1210 S 6th Ave\, Tacoma\, WA\, 98405\, United States
CATEGORIES:Financial Aid,General Community
ATTACH;FMTTYPE=image/png:https://graduatetacoma.org/wp-content/uploads/2024/02/EOC-February-Events-2024.png
END:VEVENT
BEGIN:VEVENT
DTSTART;TZID=America/Los_Angeles:20240207T100000
DTEND;TZID=America/Los_Angeles:20240207T110000
DTSTAMP:20260421T180552
CREATED:20240116T205206Z
LAST-MODIFIED:20240116T223850Z
UID:24823-1707300000-1707303600@graduatetacoma.org
SUMMARY:WSAC Wednesday
DESCRIPTION:Practitioners\, do you have questions about financial aid? WSAC’s College Access and Support division is here to help! Join us the first Wednesday of every month from 10:00-11:00am for an open Q&A. Register in advance at https://bit.ly/WSACWednesday.
URL:https://graduatetacoma.org/event/wsac-wednesday/
LOCATION:WA
CATEGORIES:Financial Aid
ATTACH;FMTTYPE=image/png:https://graduatetacoma.org/wp-content/uploads/2024/01/6ed51d53-3d0f-4ace-83c2-3696b5005ed1.png
ORGANIZER;CN="Washington Student Achievement Council":MAILTO:info@wsac.wa.gov
END:VEVENT
BEGIN:VEVENT
DTSTART;TZID=America/Los_Angeles:20240214T140000
DTEND;TZID=America/Los_Angeles:20240214T160000
DTSTAMP:20260421T180552
CREATED:20240210T000942Z
LAST-MODIFIED:20240210T000942Z
UID:26029-1707919200-1707926400@graduatetacoma.org
SUMMARY:EOC February Winter Workshops
DESCRIPTION:For the month of February\, the Education and Employment Opportunity Center (EOC) will be hosting a series of workshops/info sessions focused on GED & High School Completions; Financial Aid & College Applications; Career Assessment; and much more! \nOur events and workshops all always free\, including enrolling into the EOC program.
URL:https://graduatetacoma.org/event/eoc-february-winter-workshops/
LOCATION:Evergreen State College\, 1210 S 6th Ave\, Tacoma\, WA\, 98405\, United States
CATEGORIES:Financial Aid,General Community
ATTACH;FMTTYPE=image/png:https://graduatetacoma.org/wp-content/uploads/2024/02/EOC-February-Events-2024.png
END:VEVENT
BEGIN:VEVENT
DTSTART;TZID=America/Los_Angeles:20240214T140000
DTEND;TZID=America/Los_Angeles:20240214T160000
DTSTAMP:20260421T180552
CREATED:20240210T000942Z
LAST-MODIFIED:20240210T000942Z
UID:26029-1707919200-1707926400@graduatetacoma.org
SUMMARY:EOC February Winter Workshops
DESCRIPTION:For the month of February\, the Education and Employment Opportunity Center (EOC) will be hosting a series of workshops/info sessions focused on GED & High School Completions; Financial Aid & College Applications; Career Assessment; and much more! \nOur events and workshops all always free\, including enrolling into the EOC program.
URL:https://graduatetacoma.org/event/eoc-february-winter-workshops/
LOCATION:Evergreen State College\, 1210 S 6th Ave\, Tacoma\, WA\, 98405\, United States
CATEGORIES:Financial Aid,General Community
ATTACH;FMTTYPE=image/png:https://graduatetacoma.org/wp-content/uploads/2024/02/EOC-February-Events-2024.png
END:VEVENT
BEGIN:VEVENT
DTSTART;TZID=America/Los_Angeles:20240214T140000
DTEND;TZID=America/Los_Angeles:20240214T160000
DTSTAMP:20260421T180552
CREATED:20240210T000942Z
LAST-MODIFIED:20240210T000942Z
UID:26029-1707919200-1707926400@graduatetacoma.org
SUMMARY:EOC February Winter Workshops
DESCRIPTION:For the month of February\, the Education and Employment Opportunity Center (EOC) will be hosting a series of workshops/info sessions focused on GED & High School Completions; Financial Aid & College Applications; Career Assessment; and much more! \nOur events and workshops all always free\, including enrolling into the EOC program.
URL:https://graduatetacoma.org/event/eoc-february-winter-workshops/
LOCATION:Evergreen State College\, 1210 S 6th Ave\, Tacoma\, WA\, 98405\, United States
CATEGORIES:Financial Aid,General Community
ATTACH;FMTTYPE=image/png:https://graduatetacoma.org/wp-content/uploads/2024/02/EOC-February-Events-2024.png
END:VEVENT
BEGIN:VEVENT
DTSTART;TZID=America/Los_Angeles:20240214T140000
DTEND;TZID=America/Los_Angeles:20240214T160000
DTSTAMP:20260421T180552
CREATED:20240210T000942Z
LAST-MODIFIED:20240210T000942Z
UID:26029-1707919200-1707926400@graduatetacoma.org
SUMMARY:EOC February Winter Workshops
DESCRIPTION:For the month of February\, the Education and Employment Opportunity Center (EOC) will be hosting a series of workshops/info sessions focused on GED & High School Completions; Financial Aid & College Applications; Career Assessment; and much more! \nOur events and workshops all always free\, including enrolling into the EOC program.
URL:https://graduatetacoma.org/event/eoc-february-winter-workshops/
LOCATION:Evergreen State College\, 1210 S 6th Ave\, Tacoma\, WA\, 98405\, United States
CATEGORIES:Financial Aid,General Community
ATTACH;FMTTYPE=image/png:https://graduatetacoma.org/wp-content/uploads/2024/02/EOC-February-Events-2024.png
END:VEVENT
BEGIN:VEVENT
DTSTART;TZID=America/Los_Angeles:20240207T100000
DTEND;TZID=America/Los_Angeles:20240207T110000
DTSTAMP:20260421T180552
CREATED:20240116T205206Z
LAST-MODIFIED:20240116T223850Z
UID:24823-1707300000-1707303600@graduatetacoma.org
SUMMARY:WSAC Wednesday
DESCRIPTION:Practitioners\, do you have questions about financial aid? WSAC’s College Access and Support division is here to help! Join us the first Wednesday of every month from 10:00-11:00am for an open Q&A. Register in advance at https://bit.ly/WSACWednesday.
URL:https://graduatetacoma.org/event/wsac-wednesday/
LOCATION:WA
CATEGORIES:Financial Aid
ATTACH;FMTTYPE=image/png:https://graduatetacoma.org/wp-content/uploads/2024/01/6ed51d53-3d0f-4ace-83c2-3696b5005ed1.png
ORGANIZER;CN="Washington Student Achievement Council":MAILTO:info@wsac.wa.gov
END:VEVENT
BEGIN:VEVENT
DTSTART;TZID=America/Los_Angeles:20240214T140000
DTEND;TZID=America/Los_Angeles:20240214T160000
DTSTAMP:20260421T180552
CREATED:20240210T000942Z
LAST-MODIFIED:20240210T000942Z
UID:26029-1707919200-1707926400@graduatetacoma.org
SUMMARY:EOC February Winter Workshops
DESCRIPTION:For the month of February\, the Education and Employment Opportunity Center (EOC) will be hosting a series of workshops/info sessions focused on GED & High School Completions; Financial Aid & College Applications; Career Assessment; and much more! \nOur events and workshops all always free\, including enrolling into the EOC program.
URL:https://graduatetacoma.org/event/eoc-february-winter-workshops/
LOCATION:Evergreen State College\, 1210 S 6th Ave\, Tacoma\, WA\, 98405\, United States
CATEGORIES:Financial Aid,General Community
ATTACH;FMTTYPE=image/png:https://graduatetacoma.org/wp-content/uploads/2024/02/EOC-February-Events-2024.png
END:VEVENT
BEGIN:VEVENT
DTSTART;TZID=America/Los_Angeles:20240214T140000
DTEND;TZID=America/Los_Angeles:20240214T160000
DTSTAMP:20260421T180552
CREATED:20240210T000942Z
LAST-MODIFIED:20240210T000942Z
UID:26029-1707919200-1707926400@graduatetacoma.org
SUMMARY:EOC February Winter Workshops
DESCRIPTION:For the month of February\, the Education and Employment Opportunity Center (EOC) will be hosting a series of workshops/info sessions focused on GED & High School Completions; Financial Aid & College Applications; Career Assessment; and much more! \nOur events and workshops all always free\, including enrolling into the EOC program.
URL:https://graduatetacoma.org/event/eoc-february-winter-workshops/
LOCATION:Evergreen State College\, 1210 S 6th Ave\, Tacoma\, WA\, 98405\, United States
CATEGORIES:Financial Aid,General Community
ATTACH;FMTTYPE=image/png:https://graduatetacoma.org/wp-content/uploads/2024/02/EOC-February-Events-2024.png
END:VEVENT
BEGIN:VEVENT
DTSTART;TZID=America/Los_Angeles:20240214T140000
DTEND;TZID=America/Los_Angeles:20240214T160000
DTSTAMP:20260421T180552
CREATED:20240210T000942Z
LAST-MODIFIED:20240210T000942Z
UID:26029-1707919200-1707926400@graduatetacoma.org
SUMMARY:EOC February Winter Workshops
DESCRIPTION:For the month of February\, the Education and Employment Opportunity Center (EOC) will be hosting a series of workshops/info sessions focused on GED & High School Completions; Financial Aid & College Applications; Career Assessment; and much more! \nOur events and workshops all always free\, including enrolling into the EOC program.
URL:https://graduatetacoma.org/event/eoc-february-winter-workshops/
LOCATION:Evergreen State College\, 1210 S 6th Ave\, Tacoma\, WA\, 98405\, United States
CATEGORIES:Financial Aid,General Community
ATTACH;FMTTYPE=image/png:https://graduatetacoma.org/wp-content/uploads/2024/02/EOC-February-Events-2024.png
END:VEVENT
BEGIN:VEVENT
DTSTART;TZID=America/Los_Angeles:20240214T140000
DTEND;TZID=America/Los_Angeles:20240214T160000
DTSTAMP:20260421T180552
CREATED:20240210T000942Z
LAST-MODIFIED:20240210T000942Z
UID:26029-1707919200-1707926400@graduatetacoma.org
SUMMARY:EOC February Winter Workshops
DESCRIPTION:For the month of February\, the Education and Employment Opportunity Center (EOC) will be hosting a series of workshops/info sessions focused on GED & High School Completions; Financial Aid & College Applications; Career Assessment; and much more! \nOur events and workshops all always free\, including enrolling into the EOC program.
URL:https://graduatetacoma.org/event/eoc-february-winter-workshops/
LOCATION:Evergreen State College\, 1210 S 6th Ave\, Tacoma\, WA\, 98405\, United States
CATEGORIES:Financial Aid,General Community
ATTACH;FMTTYPE=image/png:https://graduatetacoma.org/wp-content/uploads/2024/02/EOC-February-Events-2024.png
END:VEVENT
BEGIN:VEVENT
DTSTART;TZID=America/Los_Angeles:20240214T140000
DTEND;TZID=America/Los_Angeles:20240214T160000
DTSTAMP:20260421T180552
CREATED:20240210T000942Z
LAST-MODIFIED:20240210T000942Z
UID:26029-1707919200-1707926400@graduatetacoma.org
SUMMARY:EOC February Winter Workshops
DESCRIPTION:For the month of February\, the Education and Employment Opportunity Center (EOC) will be hosting a series of workshops/info sessions focused on GED & High School Completions; Financial Aid & College Applications; Career Assessment; and much more! \nOur events and workshops all always free\, including enrolling into the EOC program.
URL:https://graduatetacoma.org/event/eoc-february-winter-workshops/
LOCATION:Evergreen State College\, 1210 S 6th Ave\, Tacoma\, WA\, 98405\, United States
CATEGORIES:Financial Aid,General Community
ATTACH;FMTTYPE=image/png:https://graduatetacoma.org/wp-content/uploads/2024/02/EOC-February-Events-2024.png
END:VEVENT
BEGIN:VEVENT
DTSTART;TZID=America/Los_Angeles:20240207T100000
DTEND;TZID=America/Los_Angeles:20240207T110000
DTSTAMP:20260421T180552
CREATED:20240116T205206Z
LAST-MODIFIED:20240116T223850Z
UID:24823-1707300000-1707303600@graduatetacoma.org
SUMMARY:WSAC Wednesday
DESCRIPTION:Practitioners\, do you have questions about financial aid? WSAC’s College Access and Support division is here to help! Join us the first Wednesday of every month from 10:00-11:00am for an open Q&A. Register in advance at https://bit.ly/WSACWednesday.
URL:https://graduatetacoma.org/event/wsac-wednesday/
LOCATION:WA
CATEGORIES:Financial Aid
ATTACH;FMTTYPE=image/png:https://graduatetacoma.org/wp-content/uploads/2024/01/6ed51d53-3d0f-4ace-83c2-3696b5005ed1.png
ORGANIZER;CN="Washington Student Achievement Council":MAILTO:info@wsac.wa.gov
END:VEVENT
BEGIN:VEVENT
DTSTART;TZID=America/Los_Angeles:20240214T140000
DTEND;TZID=America/Los_Angeles:20240214T160000
DTSTAMP:20260421T180552
CREATED:20240210T000942Z
LAST-MODIFIED:20240210T000942Z
UID:26029-1707919200-1707926400@graduatetacoma.org
SUMMARY:EOC February Winter Workshops
DESCRIPTION:For the month of February\, the Education and Employment Opportunity Center (EOC) will be hosting a series of workshops/info sessions focused on GED & High School Completions; Financial Aid & College Applications; Career Assessment; and much more! \nOur events and workshops all always free\, including enrolling into the EOC program.
URL:https://graduatetacoma.org/event/eoc-february-winter-workshops/
LOCATION:Evergreen State College\, 1210 S 6th Ave\, Tacoma\, WA\, 98405\, United States
CATEGORIES:Financial Aid,General Community
ATTACH;FMTTYPE=image/png:https://graduatetacoma.org/wp-content/uploads/2024/02/EOC-February-Events-2024.png
END:VEVENT
BEGIN:VEVENT
DTSTART;TZID=America/Los_Angeles:20240214T140000
DTEND;TZID=America/Los_Angeles:20240214T160000
DTSTAMP:20260421T180552
CREATED:20240210T000942Z
LAST-MODIFIED:20240210T000942Z
UID:26029-1707919200-1707926400@graduatetacoma.org
SUMMARY:EOC February Winter Workshops
DESCRIPTION:For the month of February\, the Education and Employment Opportunity Center (EOC) will be hosting a series of workshops/info sessions focused on GED & High School Completions; Financial Aid & College Applications; Career Assessment; and much more! \nOur events and workshops all always free\, including enrolling into the EOC program.
URL:https://graduatetacoma.org/event/eoc-february-winter-workshops/
LOCATION:Evergreen State College\, 1210 S 6th Ave\, Tacoma\, WA\, 98405\, United States
CATEGORIES:Financial Aid,General Community
ATTACH;FMTTYPE=image/png:https://graduatetacoma.org/wp-content/uploads/2024/02/EOC-February-Events-2024.png
END:VEVENT
END:VCALENDAR