BEGIN:VCALENDAR
VERSION:2.0
PRODID:-//Graduate Tacoma - ECPv6.15.20//NONSGML v1.0//EN
CALSCALE:GREGORIAN
METHOD:PUBLISH
X-WR-CALNAME:Graduate Tacoma
X-ORIGINAL-URL:https://graduatetacoma.org
X-WR-CALDESC:Events for Graduate Tacoma
REFRESH-INTERVAL;VALUE=DURATION:PT1H
X-Robots-Tag:noindex
X-PUBLISHED-TTL:PT1H
BEGIN:VTIMEZONE
TZID:America/Los_Angeles
BEGIN:DAYLIGHT
TZOFFSETFROM:-0800
TZOFFSETTO:-0700
TZNAME:PDT
DTSTART:20220313T100000
END:DAYLIGHT
BEGIN:STANDARD
TZOFFSETFROM:-0700
TZOFFSETTO:-0800
TZNAME:PST
DTSTART:20221106T090000
END:STANDARD
BEGIN:DAYLIGHT
TZOFFSETFROM:-0800
TZOFFSETTO:-0700
TZNAME:PDT
DTSTART:20230312T100000
END:DAYLIGHT
BEGIN:STANDARD
TZOFFSETFROM:-0700
TZOFFSETTO:-0800
TZNAME:PST
DTSTART:20231105T090000
END:STANDARD
BEGIN:DAYLIGHT
TZOFFSETFROM:-0800
TZOFFSETTO:-0700
TZNAME:PDT
DTSTART:20240310T100000
END:DAYLIGHT
BEGIN:STANDARD
TZOFFSETFROM:-0700
TZOFFSETTO:-0800
TZNAME:PST
DTSTART:20241103T090000
END:STANDARD
BEGIN:DAYLIGHT
TZOFFSETFROM:-0800
TZOFFSETTO:-0700
TZNAME:PDT
DTSTART:20250309T100000
END:DAYLIGHT
BEGIN:STANDARD
TZOFFSETFROM:-0700
TZOFFSETTO:-0800
TZNAME:PST
DTSTART:20251102T090000
END:STANDARD
END:VTIMEZONE
BEGIN:VEVENT
DTSTART;TZID=America/Los_Angeles:20231102T080000
DTEND;TZID=America/Los_Angeles:20240521T235900
DTSTAMP:20260421T022604
CREATED:20231102T170022Z
LAST-MODIFIED:20231102T210223Z
UID:23025-1698912000-1716335940@graduatetacoma.org
SUMMARY:2024 Willie Stewart Community Service Scholarship
DESCRIPTION:The Willie Stewart Community Service Scholarship program celebrates and recognizes Pierce County high school seniors who have given back to their community through volunteer service. Scholarships in the amount of $2\,500 are awarded to graduating seniors in a competitive process. In 2023\, 14 local seniors received this scholarship.
URL:https://graduatetacoma.org/event/2024-willie-stewart-community-service-scholarship/
LOCATION:WA
CATEGORIES:Consortium,General Community
ATTACH;FMTTYPE=application/pdf:https://graduatetacoma.org/wp-content/uploads/2023/11/Willie-Stewart-Scholarship-2024-Flyer.pdf
END:VEVENT
BEGIN:VEVENT
DTSTART;VALUE=DATE:20240130
DTEND;VALUE=DATE:20240326
DTSTAMP:20260421T022604
CREATED:20240130T235806Z
LAST-MODIFIED:20240130T235837Z
UID:25559-1706572800-1711411199@graduatetacoma.org
SUMMARY:Tacoma Creates: 2024-25 Applications Open
DESCRIPTION:Tacoma Creates is now accepting applications for its fifth year of funding\, supporting cultural organizations’ programs and events to be presented between July 1\, 2024 and June 30\, 2025! \nTacoma Creates supports organizations whose primary purpose is to advance and/or preserve arts\, culture\, heritage\, and/or science through two funding categories: Comprehensive Organizational Support and Impact Funding. \nFunding is determined through a competitive application process and is intended to help eligible non-profit organizations expand equitable access to public programs\, grow educational options for youth\, increase opportunities in neighborhoods throughout Tacoma\, and build sustainability for continued services. \n\n\n\nDeadline for the Comprehensive Organizational Support application is Monday\, March 11\, 2024\, 11:59pm.\n\n\n\n\n\n\nDeadline for the Impact Funding application is Monday\, March 25\, 2024\, 11:59pm.\n\n\n\n\nLearn more on their website: www.tacomacreates.org
URL:https://graduatetacoma.org/event/tacoma-creates-2024-25-applications-open/
LOCATION:WA
CATEGORIES:Consortium,General Community
ATTACH;FMTTYPE=image/jpeg:https://graduatetacoma.org/wp-content/uploads/2024/01/Tacoma-Creates-1.jpeg
END:VEVENT
BEGIN:VEVENT
DTSTART;VALUE=DATE:20240304
DTEND;VALUE=DATE:20240305
DTSTAMP:20260421T022604
CREATED:20240116T204830Z
LAST-MODIFIED:20240116T205537Z
UID:24822-1709510400-1709596799@graduatetacoma.org
SUMMARY:Charting Our Future - Request For Proposals Deadline
DESCRIPTION:Charting Our Future is the annual conference for education leaders\, advocates\, and allies. This event serves as a dynamic platform for individuals across various sectors\, all united in their commitment to shaping a young person’s journey from cradle to career. Over two transformative days\, we aim to ignite collaboration\, enrich learning experiences\, and expand professional networks. At the heart of this conference is the desire to build a collective knowledge base\, equipping participants with essential tools to positively influence the lives of youth and their families. By adopting a systemic approach and pooling our diverse expertise\, we aim to transform policies\, practices\, resource allocation\, and power dynamics. \nThis year’s theme is Local Focus\, Statewide Impact. We are actively seeking proposals for sessions that highlight initiatives and approaches within local communities with the potential to be scaled statewide.
URL:https://graduatetacoma.org/event/charting-our-future-request-for-proposals-deadline/
LOCATION:WA
CATEGORIES:Foundation for Tacoma Students,General Community
ATTACH;FMTTYPE=image/png:https://graduatetacoma.org/wp-content/uploads/2024/01/cof-2024-logo-white-circle-gradiant.png
END:VEVENT
BEGIN:VEVENT
DTSTART;TZID=America/Los_Angeles:20240214T140000
DTEND;TZID=America/Los_Angeles:20240214T160000
DTSTAMP:20260421T022604
CREATED:20240210T000942Z
LAST-MODIFIED:20240210T000942Z
UID:26029-1707919200-1707926400@graduatetacoma.org
SUMMARY:EOC February Winter Workshops
DESCRIPTION:For the month of February\, the Education and Employment Opportunity Center (EOC) will be hosting a series of workshops/info sessions focused on GED & High School Completions; Financial Aid & College Applications; Career Assessment; and much more! \nOur events and workshops all always free\, including enrolling into the EOC program.
URL:https://graduatetacoma.org/event/eoc-february-winter-workshops/
LOCATION:Evergreen State College\, 1210 S 6th Ave\, Tacoma\, WA\, 98405\, United States
CATEGORIES:Financial Aid,General Community
ATTACH;FMTTYPE=image/png:https://graduatetacoma.org/wp-content/uploads/2024/02/EOC-February-Events-2024.png
END:VEVENT
BEGIN:VEVENT
DTSTART;TZID=America/Los_Angeles:20240214T140000
DTEND;TZID=America/Los_Angeles:20240214T160000
DTSTAMP:20260421T022604
CREATED:20240210T000942Z
LAST-MODIFIED:20240210T000942Z
UID:26029-1707919200-1707926400@graduatetacoma.org
SUMMARY:EOC February Winter Workshops
DESCRIPTION:For the month of February\, the Education and Employment Opportunity Center (EOC) will be hosting a series of workshops/info sessions focused on GED & High School Completions; Financial Aid & College Applications; Career Assessment; and much more! \nOur events and workshops all always free\, including enrolling into the EOC program.
URL:https://graduatetacoma.org/event/eoc-february-winter-workshops/
LOCATION:Evergreen State College\, 1210 S 6th Ave\, Tacoma\, WA\, 98405\, United States
CATEGORIES:Financial Aid,General Community
ATTACH;FMTTYPE=image/png:https://graduatetacoma.org/wp-content/uploads/2024/02/EOC-February-Events-2024.png
END:VEVENT
BEGIN:VEVENT
DTSTART;VALUE=DATE:20240320
DTEND;VALUE=DATE:20240322
DTSTAMP:20260421T022604
CREATED:20231214T194205Z
LAST-MODIFIED:20240313T211547Z
UID:23922-1710892800-1711065599@graduatetacoma.org
SUMMARY:2024 NCAN Advocacy Training and Hill Day
DESCRIPTION:NCAN’s 2024 Advocacy Training and Hill Day will be on March 20th and 21st in Washington\, DC. Hill Day is the premier gathering of college access and success professionals seeking to impact federal policy. Whether you are brand new to policy advocacy\, or a seasoned expert in driving federal change\, your voice is needed in Washington\, DC. All NCAN members and your students\, alumni\, and board members are welcome to attend. Detailed schedule coming soon. Please join NCAN at Hill Day this spring!
URL:https://graduatetacoma.org/event/2024-ncan-advocacy-training-and-hill-day/
LOCATION:WA
CATEGORIES:Advocacy,General Community
ATTACH;FMTTYPE=image/png:https://graduatetacoma.org/wp-content/uploads/2023/12/capitolpic.png
END:VEVENT
BEGIN:VEVENT
DTSTART;TZID=America/Los_Angeles:20240214T140000
DTEND;TZID=America/Los_Angeles:20240214T160000
DTSTAMP:20260421T022604
CREATED:20240210T000942Z
LAST-MODIFIED:20240210T000942Z
UID:26029-1707919200-1707926400@graduatetacoma.org
SUMMARY:EOC February Winter Workshops
DESCRIPTION:For the month of February\, the Education and Employment Opportunity Center (EOC) will be hosting a series of workshops/info sessions focused on GED & High School Completions; Financial Aid & College Applications; Career Assessment; and much more! \nOur events and workshops all always free\, including enrolling into the EOC program.
URL:https://graduatetacoma.org/event/eoc-february-winter-workshops/
LOCATION:Evergreen State College\, 1210 S 6th Ave\, Tacoma\, WA\, 98405\, United States
CATEGORIES:Financial Aid,General Community
ATTACH;FMTTYPE=image/png:https://graduatetacoma.org/wp-content/uploads/2024/02/EOC-February-Events-2024.png
END:VEVENT
BEGIN:VEVENT
DTSTART;TZID=America/Los_Angeles:20240321T180000
DTEND;TZID=America/Los_Angeles:20240321T200000
DTSTAMP:20260421T022604
CREATED:20240206T171835Z
LAST-MODIFIED:20240206T171835Z
UID:25743-1711044000-1711051200@graduatetacoma.org
SUMMARY:BIG Impact: Networking with a Purpose
DESCRIPTION:Buy your tickets now for delicious bites\, swanky sips\, and a night of networking with a purpose at BIG Impact on Thursday\, March 21.\n\nJoin Big Brothers Big Sisters of Puget Sound for a cocktail hour full of inspiration as we announce our 2024 Bigs & Littles of the Year. See the powerful impact these matches have made in each other’s lives as you get to know BBBS supporters from throughout the Puget Sound. \nAfter the program celebrating these Bigs & Littles\, you’ll get unlimited access to all that MoPOP’s central galleries have to offer\, including the brand new “Massive: The Power of Pop Culture” exhibit that opens just a few days earlier. \nThis will be a night to remember. You don’t want to miss it! \n*This fundraising event is for guests ages 18+
URL:https://graduatetacoma.org/event/big-impact-networking-with-a-purpose/
LOCATION:Museum of Pop Culture\, 325 5th Ave N\, Seattle\, WA\, 98109
CATEGORIES:Consortium,General Community
ATTACH;FMTTYPE=image/png:https://graduatetacoma.org/wp-content/uploads/2024/02/unnamed-4.png
END:VEVENT
BEGIN:VEVENT
DTSTART;TZID=America/Los_Angeles:20240214T140000
DTEND;TZID=America/Los_Angeles:20240214T160000
DTSTAMP:20260421T022604
CREATED:20240210T000942Z
LAST-MODIFIED:20240210T000942Z
UID:26029-1707919200-1707926400@graduatetacoma.org
SUMMARY:EOC February Winter Workshops
DESCRIPTION:For the month of February\, the Education and Employment Opportunity Center (EOC) will be hosting a series of workshops/info sessions focused on GED & High School Completions; Financial Aid & College Applications; Career Assessment; and much more! \nOur events and workshops all always free\, including enrolling into the EOC program.
URL:https://graduatetacoma.org/event/eoc-february-winter-workshops/
LOCATION:Evergreen State College\, 1210 S 6th Ave\, Tacoma\, WA\, 98405\, United States
CATEGORIES:Financial Aid,General Community
ATTACH;FMTTYPE=image/png:https://graduatetacoma.org/wp-content/uploads/2024/02/EOC-February-Events-2024.png
END:VEVENT
BEGIN:VEVENT
DTSTART;TZID=America/Los_Angeles:20240328T100000
DTEND;TZID=America/Los_Angeles:20240328T160000
DTSTAMP:20260421T022604
CREATED:20240308T173630Z
LAST-MODIFIED:20240308T173630Z
UID:26891-1711620000-1711641600@graduatetacoma.org
SUMMARY:Rails to Sails Train Show
DESCRIPTION:Foss Waterway Seaport is hosting the Rails to Sails Train Show\, in collaboration with the National Model Railroad Association. This year’s model train show will feature at least five model trains and open to the public on March 28th to March 30th from 10:00 AM – 4:00 PM. Rails to Sails Train Show is included with regular paid museum admission.
URL:https://graduatetacoma.org/event/rails-to-sails-train-show/
LOCATION:Foss Waterway Seaport\, 705 Dock Street\, Tacoma\, WA\, 98402\, United States
CATEGORIES:General Community
ATTACH;FMTTYPE=image/png:https://graduatetacoma.org/wp-content/uploads/2024/03/Train-Show-Flyer-NEW.png
ORGANIZER;CN="Foss Waterway Seaport":MAILTO:kaitlan.harbaugh@fosswaterwayseaport.org
END:VEVENT
END:VCALENDAR